BEGIN:VCALENDAR
VERSION:2.0
PRODID:-//FORCLT - ECPv6.15.20//NONSGML v1.0//EN
CALSCALE:GREGORIAN
METHOD:PUBLISH
X-WR-CALNAME:FORCLT
X-ORIGINAL-URL:https://forcharlotte.org
X-WR-CALDESC:Events for FORCLT
REFRESH-INTERVAL;VALUE=DURATION:PT1H
X-Robots-Tag:noindex
X-PUBLISHED-TTL:PT1H
BEGIN:VTIMEZONE
TZID:America/New_York
BEGIN:DAYLIGHT
TZOFFSETFROM:-0500
TZOFFSETTO:-0400
TZNAME:EDT
DTSTART:20250309T070000
END:DAYLIGHT
BEGIN:STANDARD
TZOFFSETFROM:-0400
TZOFFSETTO:-0500
TZNAME:EST
DTSTART:20251102T060000
END:STANDARD
BEGIN:DAYLIGHT
TZOFFSETFROM:-0500
TZOFFSETTO:-0400
TZNAME:EDT
DTSTART:20260308T070000
END:DAYLIGHT
BEGIN:STANDARD
TZOFFSETFROM:-0400
TZOFFSETTO:-0500
TZNAME:EST
DTSTART:20261101T060000
END:STANDARD
BEGIN:DAYLIGHT
TZOFFSETFROM:-0500
TZOFFSETTO:-0400
TZNAME:EDT
DTSTART:20270314T070000
END:DAYLIGHT
BEGIN:STANDARD
TZOFFSETFROM:-0400
TZOFFSETTO:-0500
TZNAME:EST
DTSTART:20271107T060000
END:STANDARD
END:VTIMEZONE
BEGIN:VEVENT
DTSTART;TZID=America/New_York:20261114T100000
DTEND;TZID=America/New_York:20261114T113000
DTSTAMP:20260419T201609
CREATED:20260208T214148Z
LAST-MODIFIED:20260208T214238Z
UID:5837-1794650400-1794655800@forcharlotte.org
SUMMARY:Regional Prayer Gatherings | November
DESCRIPTION:FORCLT is committed to mobilizing the Church to pray for the pastors\, churches\, and needs in Greater Charlotte. To that end\, FORCLT will host or partner with other agencies to host free to attend prayer gatherings for the city. Prayer leaders will gather every other month for a time of connection\, collaboration\, and prayer. Below are the locations of the different regional gatherings. All regions will be on November 14th from 10-11:30am. \n  \nNortheast Regional Prayer Gathering:  \nStoneBridge Church Community – 3700 Prosperity Church Rd.\, Charlotte\, NC 28269 \nNorthwest Regional Prayer Gathering: \nReeder Memorial Baptist Church – 3725 Beatties Ford Rd.\, Charlotte\, NC 28216 \nSoutheast Regional Prayer Gathering: \nCarmel Baptist Church – 1145 Pineville-Matthews Rd.\, Matthews\, NC 28105 \nSouthwest Regional Prayer Gathering: \nDavis Ministry Group – 756 Tyvola Rd.\, Suite 744\, Charlotte\, NC 28217 \n(located in the Arcade Square/Highland Park Commerce Center)
URL:https://forcharlotte.org/event/regional-prayer-gatherings-november/
LOCATION:Regional Locations
ORGANIZER;CN="For Charlotte | FORCLT":MAILTO:info@forcharlotte.org
END:VEVENT
BEGIN:VEVENT
DTSTART;TZID=America/New_York:20261116T120000
DTEND;TZID=America/New_York:20261116T130000
DTSTAMP:20260419T201609
CREATED:20260208T214308Z
LAST-MODIFIED:20260208T214322Z
UID:5839-1794830400-1794834000@forcharlotte.org
SUMMARY:Southwest Pastoral Network Gathering | November
DESCRIPTION:This is a closed FORCLT Network. If you are interested in attending this Pastoral Network Gathering\, please contact FORCLT HERE. \nSouthwest Pastoral Network meets on the 3rd Monday of every month.
URL:https://forcharlotte.org/event/southwest-pastoral-network-gathering-november/
END:VEVENT
BEGIN:VEVENT
DTSTART;TZID=America/New_York:20261118T120000
DTEND;TZID=America/New_York:20261118T133000
DTSTAMP:20260419T201609
CREATED:20260208T214426Z
LAST-MODIFIED:20260208T214438Z
UID:5841-1795003200-1795008600@forcharlotte.org
SUMMARY:Lake Norman Pastoral Network | November
DESCRIPTION:This is a closed FORCLT Network. If you are interested in attending this Pastoral Network Gathering\, please contact FORCLT HERE. \nLake Norman Pastoral Network meets on the 3rd Wednesday of the month.
URL:https://forcharlotte.org/event/lake-norman-pastoral-network-november/
END:VEVENT
BEGIN:VEVENT
DTSTART;TZID=America/New_York:20261119T080000
DTEND;TZID=America/New_York:20261119T090000
DTSTAMP:20260419T201609
CREATED:20260208T214505Z
LAST-MODIFIED:20260208T214519Z
UID:5843-1795075200-1795078800@forcharlotte.org
SUMMARY:Fort Mill Pastoral Network Gathering | November
DESCRIPTION:This is a closed FORCLT Network. If you are interested in attending this Pastoral Network Gathering\, please contact FORCLT HERE. \nFort Mill Pastoral Network meets on the 3rd Thursday of every month.
URL:https://forcharlotte.org/event/fort-mill-pastoral-network-gathering-november/
END:VEVENT
BEGIN:VEVENT
DTSTART;TZID=America/New_York:20261125T074500
DTEND;TZID=America/New_York:20261125T090000
DTSTAMP:20260419T201609
CREATED:20260208T214653Z
LAST-MODIFIED:20260208T214709Z
UID:5845-1795592700-1795597200@forcharlotte.org
SUMMARY:Southeast Pastoral Network Gathering | November
DESCRIPTION:This is a closed FORCLT Network. If you are interested in attending this Pastoral Network Gathering\, please contact FORCLT HERE. \nSoutheast Pastoral Network meets on the last Wednesday of every month.
URL:https://forcharlotte.org/event/southeast-pastoral-network-gathering-november/
END:VEVENT
BEGIN:VEVENT
DTSTART;TZID=America/New_York:20261126T120000
DTEND;TZID=America/New_York:20261126T133000
DTSTAMP:20260419T201609
CREATED:20260208T214730Z
LAST-MODIFIED:20260208T214744Z
UID:5847-1795694400-1795699800@forcharlotte.org
SUMMARY:Uptown/Southend Pastoral Network Gathering | November
DESCRIPTION:This is a closed FORCLT Network. If you are interested in attending this Pastoral Network Gathering\, please contact FORCLT HERE. \nUptown/Southend Pastoral Network meets on the last Thursday of every month.
URL:https://forcharlotte.org/event/uptownsouthend-pastoral-network-gathering-november/
END:VEVENT
BEGIN:VEVENT
DTSTART;TZID=America/New_York:20261203T120000
DTEND;TZID=America/New_York:20261203T133000
DTSTAMP:20260419T201609
CREATED:20260208T214803Z
LAST-MODIFIED:20260208T214815Z
UID:5849-1796299200-1796304600@forcharlotte.org
SUMMARY:Northeast Pastoral Network Gathering | December
DESCRIPTION:This is a closed FORCLT Network. If you are interested in attending this Pastoral Network Gathering\, please contact FORCLT HERE. \nNortheast Pastoral Network meets on the first Thursday of every month.
URL:https://forcharlotte.org/event/northeast-pastoral-network-gathering-december/
END:VEVENT
BEGIN:VEVENT
DTSTART;TZID=America/New_York:20261210T074500
DTEND;TZID=America/New_York:20261210T090000
DTSTAMP:20260419T201609
CREATED:20260208T215210Z
LAST-MODIFIED:20260208T215236Z
UID:5851-1796888700-1796893200@forcharlotte.org
SUMMARY:East Pastoral Network Gathering | December
DESCRIPTION:This is a closed FORCLT Network. If you are interested in attending this Pastoral Network Gathering\, please contact FORCLT HERE. \nEast PN meets on the Thursday of the 2nd week of the month.
URL:https://forcharlotte.org/event/east-pastoral-network-gathering-december/
END:VEVENT
BEGIN:VEVENT
DTSTART;TZID=America/New_York:20261216T120000
DTEND;TZID=America/New_York:20261216T133000
DTSTAMP:20260419T201609
CREATED:20260208T215259Z
LAST-MODIFIED:20260208T215310Z
UID:5853-1797422400-1797427800@forcharlotte.org
SUMMARY:Lake Norman Pastoral Network | December
DESCRIPTION:This is a closed FORCLT Network. If you are interested in attending this Pastoral Network Gathering\, please contact FORCLT HERE. \nLake Norman Pastoral Network meets on the 3rd Wednesday of the month.
URL:https://forcharlotte.org/event/lake-norman-pastoral-network-december/
END:VEVENT
BEGIN:VEVENT
DTSTART;TZID=America/New_York:20261217T080000
DTEND;TZID=America/New_York:20261217T090000
DTSTAMP:20260419T201609
CREATED:20260208T215330Z
LAST-MODIFIED:20260208T215355Z
UID:5855-1797494400-1797498000@forcharlotte.org
SUMMARY:Fort Mill Pastoral Network Gathering | December
DESCRIPTION:This is a closed FORCLT Network. If you are interested in attending this Pastoral Network Gathering\, please contact FORCLT HERE. \nFort Mill Pastoral Network meets on the 3rd Thursday of every month.
URL:https://forcharlotte.org/event/fort-mill-pastoral-network-gathering-december/
END:VEVENT
BEGIN:VEVENT
DTSTART;TZID=America/New_York:20261221T120000
DTEND;TZID=America/New_York:20261221T130000
DTSTAMP:20260419T201609
CREATED:20260208T215546Z
LAST-MODIFIED:20260208T215622Z
UID:5857-1797854400-1797858000@forcharlotte.org
SUMMARY:Southwest Pastoral Network Gathering | December
DESCRIPTION:This is a closed FORCLT Network. If you are interested in attending this Pastoral Network Gathering\, please contact FORCLT HERE. \nSouthwest Pastoral Network meets on the 3rd Monday of every month.
URL:https://forcharlotte.org/event/southwest-pastoral-network-gathering-december/
END:VEVENT
BEGIN:VEVENT
DTSTART;TZID=America/New_York:20261230T074500
DTEND;TZID=America/New_York:20261230T090000
DTSTAMP:20260419T201609
CREATED:20260208T215646Z
LAST-MODIFIED:20260208T215709Z
UID:5859-1798616700-1798621200@forcharlotte.org
SUMMARY:Southeast Pastoral Network Gathering | December
DESCRIPTION:This is a closed FORCLT Network. If you are interested in attending this Pastoral Network Gathering\, please contact FORCLT HERE. \nSoutheast Pastoral Network meets on the last Wednesday of every month.
URL:https://forcharlotte.org/event/southeast-pastoral-network-gathering-december/
END:VEVENT
BEGIN:VEVENT
DTSTART;TZID=America/New_York:20261231T120000
DTEND;TZID=America/New_York:20261231T133000
DTSTAMP:20260419T201609
CREATED:20260208T215734Z
LAST-MODIFIED:20260208T215747Z
UID:5861-1798718400-1798723800@forcharlotte.org
SUMMARY:Uptown/Southend Pastoral Network Gathering | December
DESCRIPTION:This is a closed FORCLT Network. If you are interested in attending this Pastoral Network Gathering\, please contact FORCLT HERE. \nUptown/Southend Pastoral Network meets on the last Thursday of every month.
URL:https://forcharlotte.org/event/uptownsouthend-pastoral-network-gathering-december/
END:VEVENT
END:VCALENDAR