BEGIN:VCALENDAR
VERSION:2.0
PRODID:-//FORCLT - ECPv6.15.20//NONSGML v1.0//EN
CALSCALE:GREGORIAN
METHOD:PUBLISH
X-WR-CALNAME:FORCLT
X-ORIGINAL-URL:https://forcharlotte.org
X-WR-CALDESC:Events for FORCLT
REFRESH-INTERVAL;VALUE=DURATION:PT1H
X-Robots-Tag:noindex
X-PUBLISHED-TTL:PT1H
BEGIN:VTIMEZONE
TZID:America/New_York
BEGIN:DAYLIGHT
TZOFFSETFROM:-0500
TZOFFSETTO:-0400
TZNAME:EDT
DTSTART:20250309T070000
END:DAYLIGHT
BEGIN:STANDARD
TZOFFSETFROM:-0400
TZOFFSETTO:-0500
TZNAME:EST
DTSTART:20251102T060000
END:STANDARD
BEGIN:DAYLIGHT
TZOFFSETFROM:-0500
TZOFFSETTO:-0400
TZNAME:EDT
DTSTART:20260308T070000
END:DAYLIGHT
BEGIN:STANDARD
TZOFFSETFROM:-0400
TZOFFSETTO:-0500
TZNAME:EST
DTSTART:20261101T060000
END:STANDARD
BEGIN:DAYLIGHT
TZOFFSETFROM:-0500
TZOFFSETTO:-0400
TZNAME:EDT
DTSTART:20270314T070000
END:DAYLIGHT
BEGIN:STANDARD
TZOFFSETFROM:-0400
TZOFFSETTO:-0500
TZNAME:EST
DTSTART:20271107T060000
END:STANDARD
END:VTIMEZONE
BEGIN:VEVENT
DTSTART;TZID=America/New_York:20260720T120000
DTEND;TZID=America/New_York:20260720T130000
DTSTAMP:20260419T213221
CREATED:20260203T205802Z
LAST-MODIFIED:20260203T205816Z
UID:5762-1784548800-1784552400@forcharlotte.org
SUMMARY:Southwest Pastoral Network Gathering | July
DESCRIPTION:This is a closed FORCLT Network. If you are interested in attending this Pastoral Network Gathering\, please contact FORCLT HERE. \nSouthwest Pastoral Network meets on the 3rd Monday of every month.
URL:https://forcharlotte.org/event/southwest-pastoral-network-gathering-july/
END:VEVENT
BEGIN:VEVENT
DTSTART;TZID=America/New_York:20260729T074500
DTEND;TZID=America/New_York:20260729T090000
DTSTAMP:20260419T213221
CREATED:20260203T205839Z
LAST-MODIFIED:20260203T205851Z
UID:5764-1785311100-1785315600@forcharlotte.org
SUMMARY:Southeast Pastoral Network Gathering | July
DESCRIPTION:This is a closed FORCLT Network. If you are interested in attending this Pastoral Network Gathering\, please contact FORCLT HERE. \nSoutheast Pastoral Network meets on the last Wednesday of every month.
URL:https://forcharlotte.org/event/southeast-pastoral-network-gathering-july/
END:VEVENT
BEGIN:VEVENT
DTSTART;TZID=America/New_York:20260730T120000
DTEND;TZID=America/New_York:20260730T133000
DTSTAMP:20260419T213221
CREATED:20260203T205912Z
LAST-MODIFIED:20260203T205923Z
UID:5766-1785412800-1785418200@forcharlotte.org
SUMMARY:Uptown/Southend Pastoral Network Gathering | July
DESCRIPTION:This is a closed FORCLT Network. If you are interested in attending this Pastoral Network Gathering\, please contact FORCLT HERE. \nUptown/Southend Pastoral Network meets on the last Thursday of every month.
URL:https://forcharlotte.org/event/uptownsouthend-pastoral-network-gathering-july/
END:VEVENT
BEGIN:VEVENT
DTSTART;TZID=America/New_York:20260806T074500
DTEND;TZID=America/New_York:20260806T090000
DTSTAMP:20260419T213221
CREATED:20260203T210416Z
LAST-MODIFIED:20260203T210438Z
UID:5772-1786002300-1786006800@forcharlotte.org
SUMMARY:East Pastoral Network Gathering | August
DESCRIPTION:This is a closed FORCLT Network. If you are interested in attending this Pastoral Network Gathering\, please contact FORCLT HERE. \nEast PN meets on the Thursday of the 2nd week of the month.
URL:https://forcharlotte.org/event/east-pastoral-network-gathering-august/
END:VEVENT
BEGIN:VEVENT
DTSTART;TZID=America/New_York:20260806T120000
DTEND;TZID=America/New_York:20260806T133000
DTSTAMP:20260419T213221
CREATED:20260203T210328Z
LAST-MODIFIED:20260203T210355Z
UID:5770-1786017600-1786023000@forcharlotte.org
SUMMARY:Northeast Pastoral Network Gathering | August
DESCRIPTION:This is a closed FORCLT Network. If you are interested in attending this Pastoral Network Gathering\, please contact FORCLT HERE. \nNortheast Pastoral Network meets on the first Thursday of every month.
URL:https://forcharlotte.org/event/northeast-pastoral-network-gathering-august/
END:VEVENT
BEGIN:VEVENT
DTSTART;TZID=America/New_York:20260817T120000
DTEND;TZID=America/New_York:20260817T130000
DTSTAMP:20260419T213221
CREATED:20260203T211103Z
LAST-MODIFIED:20260203T211116Z
UID:5774-1786968000-1786971600@forcharlotte.org
SUMMARY:Southwest Pastoral Network Gathering | August
DESCRIPTION:This is a closed FORCLT Network. If you are interested in attending this Pastoral Network Gathering\, please contact FORCLT HERE. \nSouthwest Pastoral Network meets on the 3rd Monday of every month.
URL:https://forcharlotte.org/event/southwest-pastoral-network-gathering-august/
END:VEVENT
BEGIN:VEVENT
DTSTART;TZID=America/New_York:20260819T120000
DTEND;TZID=America/New_York:20260819T133000
DTSTAMP:20260419T213221
CREATED:20260203T211201Z
LAST-MODIFIED:20260203T211214Z
UID:5776-1787140800-1787146200@forcharlotte.org
SUMMARY:Lake Norman Pastoral Network | August
DESCRIPTION:This is a closed FORCLT Network. If you are interested in attending this Pastoral Network Gathering\, please contact FORCLT HERE. \nLake Norman Pastoral Network meets on the 3rd Wednesday of the month.
URL:https://forcharlotte.org/event/lake-norman-pastoral-network-august/
END:VEVENT
BEGIN:VEVENT
DTSTART;TZID=America/New_York:20260820T080000
DTEND;TZID=America/New_York:20260820T090000
DTSTAMP:20260419T213221
CREATED:20260203T211257Z
LAST-MODIFIED:20260203T211309Z
UID:5780-1787212800-1787216400@forcharlotte.org
SUMMARY:Fort Mill Pastoral Network Gathering | August
DESCRIPTION:This is a closed FORCLT Network. If you are interested in attending this Pastoral Network Gathering\, please contact FORCLT HERE. \nFort Mill Pastoral Network meets on the 3rd Thursday of every month.
URL:https://forcharlotte.org/event/fort-mill-pastoral-network-gathering-august/
END:VEVENT
BEGIN:VEVENT
DTSTART;TZID=America/New_York:20260820T113000
DTEND;TZID=America/New_York:20260820T130000
DTSTAMP:20260419T213221
CREATED:20260203T211556Z
LAST-MODIFIED:20260203T211643Z
UID:5787-1787225400-1787230800@forcharlotte.org
SUMMARY:GCCPN August Network Gathering
DESCRIPTION:Join us for our upcoming Network Gathering! This is a unique opportunity to build meaningful relationships\, unify the church across our city\, pray for church planters\, and inspire a vision for multiplication. \nLunch is provided\, and registration is free.
URL:https://forcharlotte.org/event/gccpn-august-network-gathering-2/
LOCATION:Carmel Baptist Church\, 1145 Pineville-Matthews Rd\, Matthews\, NC\, 28105\, United States
END:VEVENT
BEGIN:VEVENT
DTSTART;TZID=America/New_York:20260826T074500
DTEND;TZID=America/New_York:20260826T090000
DTSTAMP:20260419T213221
CREATED:20260203T211709Z
LAST-MODIFIED:20260203T211721Z
UID:5789-1787730300-1787734800@forcharlotte.org
SUMMARY:Southeast Pastoral Network Gathering | August
DESCRIPTION:This is a closed FORCLT Network. If you are interested in attending this Pastoral Network Gathering\, please contact FORCLT HERE. \nSoutheast Pastoral Network meets on the last Wednesday of every month.
URL:https://forcharlotte.org/event/southeast-pastoral-network-gathering-august/
END:VEVENT
BEGIN:VEVENT
DTSTART;TZID=America/New_York:20260827T113000
DTEND;TZID=America/New_York:20260827T123000
DTSTAMP:20260419T213221
CREATED:20260210T033659Z
LAST-MODIFIED:20260210T033742Z
UID:5921-1787830200-1787833800@forcharlotte.org
SUMMARY:Lifeline Charlotte's Lunch & Learn | August
DESCRIPTION:Join Lifeline Charlotte for a Lunch and Learn on April 27th from 11:30am-12:30pm! Learn more about who we are\, what opportunities are available\, a mini meal pack experience along with lunch courtesy of Dough Girls. \nEmail charlotte@lifeline.org to register. Register by August 21st.
URL:https://forcharlotte.org/event/lifeline-charlottes-lunch-learn-august/
LOCATION:Lifeline Charlotte\, 325 McGill Ave NW\, Suite 175\, Concord\, NC\, 28027\, United States
END:VEVENT
BEGIN:VEVENT
DTSTART;TZID=America/New_York:20260827T120000
DTEND;TZID=America/New_York:20260827T133000
DTSTAMP:20260419T213221
CREATED:20260203T211744Z
LAST-MODIFIED:20260203T211755Z
UID:5791-1787832000-1787837400@forcharlotte.org
SUMMARY:Uptown/Southend Pastoral Network Gathering | August
DESCRIPTION:This is a closed FORCLT Network. If you are interested in attending this Pastoral Network Gathering\, please contact FORCLT HERE. \nUptown/Southend Pastoral Network meets on the last Thursday of every month.
URL:https://forcharlotte.org/event/uptownsouthend-pastoral-network-gathering-august/
END:VEVENT
BEGIN:VEVENT
DTSTART;TZID=America/New_York:20260903T120000
DTEND;TZID=America/New_York:20260903T133000
DTSTAMP:20260419T213221
CREATED:20260203T211915Z
LAST-MODIFIED:20260203T211929Z
UID:5794-1788436800-1788442200@forcharlotte.org
SUMMARY:Northeast Pastoral Network Gathering | September
DESCRIPTION:This is a closed FORCLT Network. If you are interested in attending this Pastoral Network Gathering\, please contact FORCLT HERE. \nNortheast Pastoral Network meets on the first Thursday of every month.
URL:https://forcharlotte.org/event/northeast-pastoral-network-gathering-september/
END:VEVENT
BEGIN:VEVENT
DTSTART;TZID=America/New_York:20260910T074500
DTEND;TZID=America/New_York:20260910T090000
DTSTAMP:20260419T213221
CREATED:20260203T212303Z
LAST-MODIFIED:20260203T212322Z
UID:5798-1789026300-1789030800@forcharlotte.org
SUMMARY:East Pastoral Network Gathering | September
DESCRIPTION:This is a closed FORCLT Network. If you are interested in attending this Pastoral Network Gathering\, please contact FORCLT HERE. \nEast PN meets on the Thursday of the 2nd week of the month.
URL:https://forcharlotte.org/event/east-pastoral-network-gathering-september/
END:VEVENT
BEGIN:VEVENT
DTSTART;TZID=America/New_York:20260912T100000
DTEND;TZID=America/New_York:20260912T113000
DTSTAMP:20260419T213221
CREATED:20260203T213314Z
LAST-MODIFIED:20260203T213450Z
UID:5815-1789207200-1789212600@forcharlotte.org
SUMMARY:United Regional Prayer Gathering
DESCRIPTION:FORCLT‘s Prayer Network is excited to present the 3rd Annual United Regional Prayer Gathering on Saturday\, September 12th! We hope that by assembling all regions in one place\, we will see increased opportunities for God’s movement in the Greater Charlotte region. \nPlease be sure to bring your QR code for check-in. If you include your phone number in your registration\, your QR code will be sent to you. More information about registration to follow. \n  \nEVENT DETAILS \nDate: Saturday\, September 12th \nVenue Address: TBD \nRoom: TBD \nTime: 10-11:30am \nIf you have any questions\, please email info@forcharlotte.org \n  \nAlso\, check out our website for more ways to engage: \nhttps://forcharlotte.org/networks/prayernetwork
URL:https://forcharlotte.org/event/united-regional-prayer-gathering-2/
LOCATION:TBD
ORGANIZER;CN="For Charlotte | FORCLT":MAILTO:info@forcharlotte.org
END:VEVENT
BEGIN:VEVENT
DTSTART;TZID=America/New_York:20260916T120000
DTEND;TZID=America/New_York:20260916T133000
DTSTAMP:20260419T213221
CREATED:20260203T212409Z
LAST-MODIFIED:20260203T212423Z
UID:5801-1789560000-1789565400@forcharlotte.org
SUMMARY:Lake Norman Pastoral Network | September
DESCRIPTION:This is a closed FORCLT Network. If you are interested in attending this Pastoral Network Gathering\, please contact FORCLT HERE. \nLake Norman Pastoral Network meets on the 3rd Wednesday of the month.
URL:https://forcharlotte.org/event/lake-norman-pastoral-network-september/
END:VEVENT
BEGIN:VEVENT
DTSTART;TZID=America/New_York:20260917T080000
DTEND;TZID=America/New_York:20260917T090000
DTSTAMP:20260419T213221
CREATED:20260203T212454Z
LAST-MODIFIED:20260203T212535Z
UID:5803-1789632000-1789635600@forcharlotte.org
SUMMARY:Fort Mill Pastoral Network Gathering | September
DESCRIPTION:This is a closed FORCLT Network. If you are interested in attending this Pastoral Network Gathering\, please contact FORCLT HERE. \nFort Mill Pastoral Network meets on the 3rd Thursday of every month.
URL:https://forcharlotte.org/event/fort-mill-pastoral-network-gathering-september/
END:VEVENT
BEGIN:VEVENT
DTSTART;TZID=America/New_York:20260917T113000
DTEND;TZID=America/New_York:20260917T133000
DTSTAMP:20260419T213221
CREATED:20260210T015420Z
LAST-MODIFIED:20260210T015438Z
UID:5898-1789644600-1789651800@forcharlotte.org
SUMMARY:Charlotte Marriages Gathering | September
DESCRIPTION:Charlotte Marriages luncheons are designed for pastors\, marriage leaders\, and those exploring the launch of a marriage ministry in their church. These gatherings create space to learn together\, build relationships\, and share practical resources with others committed to strengthening marriages across Greater Charlotte. Each luncheon is rooted in collaboration and shared learning\, offering leaders the opportunity to be encouraged\, equipped\, and reminded that they are not carrying this work alone. \nIf you have never joined us for a Charlotte Marriages lunch\, now’s the time! If you’re a regular attendee- now’s the time to bring a friend! Come enjoy a delicious and FREE lunch\, while we share the vision and mission of Charlotte Marriages. \n  \nMore information coming soon!
URL:https://forcharlotte.org/event/charlotte-marriages-gathering-september/
LOCATION:TBD
ORGANIZER;CN="For Charlotte | FORCLT":MAILTO:info@forcharlotte.org
END:VEVENT
BEGIN:VEVENT
DTSTART;TZID=America/New_York:20260921T120000
DTEND;TZID=America/New_York:20260921T130000
DTSTAMP:20260419T213221
CREATED:20260203T212658Z
LAST-MODIFIED:20260203T212718Z
UID:5805-1789992000-1789995600@forcharlotte.org
SUMMARY:Southwest Pastoral Network Gathering | September
DESCRIPTION:This is a closed FORCLT Network. If you are interested in attending this Pastoral Network Gathering\, please contact FORCLT HERE. \nSouthwest Pastoral Network meets on the 3rd Monday of every month.
URL:https://forcharlotte.org/event/southwest-pastoral-network-gathering-september/
END:VEVENT
BEGIN:VEVENT
DTSTART;TZID=America/New_York:20260924T120000
DTEND;TZID=America/New_York:20260924T133000
DTSTAMP:20260419T213221
CREATED:20260203T212744Z
LAST-MODIFIED:20260203T212801Z
UID:5809-1790251200-1790256600@forcharlotte.org
SUMMARY:Uptown/Southend Pastoral Network Gathering | September
DESCRIPTION:This is a closed FORCLT Network. If you are interested in attending this Pastoral Network Gathering\, please contact FORCLT HERE. \nUptown/Southend Pastoral Network meets on the last Thursday of every month.
URL:https://forcharlotte.org/event/uptownsouthend-pastoral-network-gathering-september/
END:VEVENT
BEGIN:VEVENT
DTSTART;TZID=America/New_York:20260930T074500
DTEND;TZID=America/New_York:20260930T090000
DTSTAMP:20260419T213221
CREATED:20260203T212829Z
LAST-MODIFIED:20260203T212841Z
UID:5811-1790754300-1790758800@forcharlotte.org
SUMMARY:Southeast Pastoral Network Gathering | September
DESCRIPTION:This is a closed FORCLT Network. If you are interested in attending this Pastoral Network Gathering\, please contact FORCLT HERE. \nSoutheast Pastoral Network meets on the last Wednesday of every month.
URL:https://forcharlotte.org/event/southeast-pastoral-network-gathering-september/
END:VEVENT
BEGIN:VEVENT
DTSTART;TZID=America/New_York:20261001T120000
DTEND;TZID=America/New_York:20261001T133000
DTSTAMP:20260419T213221
CREATED:20260203T212906Z
LAST-MODIFIED:20260203T212919Z
UID:5813-1790856000-1790861400@forcharlotte.org
SUMMARY:Northeast Pastoral Network Gathering | October
DESCRIPTION:This is a closed FORCLT Network. If you are interested in attending this Pastoral Network Gathering\, please contact FORCLT HERE. \nNortheast Pastoral Network meets on the first Thursday of every month.
URL:https://forcharlotte.org/event/northeast-pastoral-network-gathering-october/
END:VEVENT
BEGIN:VEVENT
DTSTART;TZID=America/New_York:20261008T074500
DTEND;TZID=America/New_York:20261008T090000
DTSTAMP:20260419T213221
CREATED:20260208T213027Z
LAST-MODIFIED:20260208T213045Z
UID:5818-1791445500-1791450000@forcharlotte.org
SUMMARY:East Pastoral Network Gathering | October
DESCRIPTION:This is a closed FORCLT Network. If you are interested in attending this Pastoral Network Gathering\, please contact FORCLT HERE. \nEast PN meets on the Thursday of the 2nd week of the month.
URL:https://forcharlotte.org/event/east-pastoral-network-gathering-october/
END:VEVENT
BEGIN:VEVENT
DTSTART;TZID=America/New_York:20261008T113000
DTEND;TZID=America/New_York:20261008T123000
DTSTAMP:20260419T213221
CREATED:20260210T033821Z
LAST-MODIFIED:20260210T033904Z
UID:5923-1791459000-1791462600@forcharlotte.org
SUMMARY:Lifeline Charlotte's Lunch & Learn | October
DESCRIPTION:Join Lifeline Charlotte for a Lunch and Learn on October 8th from 11:30am-12:30pm! Learn more about who we are\, what opportunities are available\, a mini meal pack experience along with lunch courtesy of Dough Girls. \nEmail charlotte@lifeline.org to register. Register by October 2nd.
URL:https://forcharlotte.org/event/lifeline-charlottes-lunch-learn-october/
LOCATION:Lifeline Charlotte\, 325 McGill Ave NW\, Suite 175\, Concord\, NC\, 28027\, United States
END:VEVENT
BEGIN:VEVENT
DTSTART;TZID=America/New_York:20261008T113000
DTEND;TZID=America/New_York:20261008T140000
DTSTAMP:20260419T213221
CREATED:20260324T153553Z
LAST-MODIFIED:20260324T153748Z
UID:5983-1791459000-1791468000@forcharlotte.org
SUMMARY:SAVE THE DATE | C.W. Williams 8th Annual Women's Health & Doctor Recognition Luncheon
DESCRIPTION:Save the date for the Women’s Health & Doctor Recognition Luncheon put on by C.W. Williams Community Health Center. This will be held on October 8th at The Revelry North End. \nMore information and registration to come! \nIf you have any questions please email events@cwwilliams.org
URL:https://forcharlotte.org/event/save-the-date-c-w-williams-8th-annual-womens-health-doctor-recognition-luncheon/
LOCATION:The Revelry Northend\, 701 Keswick Ave #110\, Charlotte\, NC\, 28206\, United States
END:VEVENT
BEGIN:VEVENT
DTSTART;TZID=America/New_York:20261015T080000
DTEND;TZID=America/New_York:20261015T090000
DTSTAMP:20260419T213221
CREATED:20260208T213108Z
LAST-MODIFIED:20260208T213126Z
UID:5820-1792051200-1792054800@forcharlotte.org
SUMMARY:Fort Mill Pastoral Network Gathering | October
DESCRIPTION:This is a closed FORCLT Network. If you are interested in attending this Pastoral Network Gathering\, please contact FORCLT HERE. \nFort Mill Pastoral Network meets on the 3rd Thursday of every month.
URL:https://forcharlotte.org/event/fort-mill-pastoral-network-gathering-october/
END:VEVENT
BEGIN:VEVENT
DTSTART;TZID=America/New_York:20261017T080000
DTEND;TZID=America/New_York:20261017T170000
DTSTAMP:20260419T213221
CREATED:20260319T025421Z
LAST-MODIFIED:20260319T025421Z
UID:5964-1792224000-1792256400@forcharlotte.org
SUMMARY:Lifeline's Meals on Mission
DESCRIPTION:Join Lifeline Christian Mission Charlotte on October 17\, 2026 for Meals on Mission — our largest one-day meal packing event! Together with churches\, businesses\, families\, and community partners\, we’ll pack 250\,000 meals that will make a real difference for local families and nonprofit organizations. \n Date: October 17\, 2026\n Location: Cabarrus Arena & Events Center\n4751 State Hwy 49\, Concord\, NC 28025\n Volunteers: 1\,200+ across five shifts \n  \nRegistration opens early summer!
URL:https://forcharlotte.org/event/lifelines-meals-on-mission/
LOCATION:Cabarrus Arena & Events Center\, 4751 State Hwy 49\, Concord\, NC\, 28025\, United States
END:VEVENT
BEGIN:VEVENT
DTSTART;TZID=America/New_York:20261019T120000
DTEND;TZID=America/New_York:20261019T130000
DTSTAMP:20260419T213221
CREATED:20260208T213151Z
LAST-MODIFIED:20260208T213207Z
UID:5822-1792411200-1792414800@forcharlotte.org
SUMMARY:Southwest Pastoral Network Gathering | October
DESCRIPTION:This is a closed FORCLT Network. If you are interested in attending this Pastoral Network Gathering\, please contact FORCLT HERE. \nSouthwest Pastoral Network meets on the 3rd Monday of every month.
URL:https://forcharlotte.org/event/southwest-pastoral-network-gathering-october/
END:VEVENT
BEGIN:VEVENT
DTSTART;TZID=America/New_York:20261021T120000
DTEND;TZID=America/New_York:20261021T133000
DTSTAMP:20260419T213221
CREATED:20260208T213315Z
LAST-MODIFIED:20260208T213329Z
UID:5824-1792584000-1792589400@forcharlotte.org
SUMMARY:Lake Norman Pastoral Network | October
DESCRIPTION:This is a closed FORCLT Network. If you are interested in attending this Pastoral Network Gathering\, please contact FORCLT HERE. \nLake Norman Pastoral Network meets on the 3rd Wednesday of the month.
URL:https://forcharlotte.org/event/lake-norman-pastoral-network-october/
END:VEVENT
BEGIN:VEVENT
DTSTART;TZID=America/New_York:20261022T113000
DTEND;TZID=America/New_York:20261022T130000
DTSTAMP:20260419T213221
CREATED:20260208T213409Z
LAST-MODIFIED:20260208T213528Z
UID:5826-1792668600-1792674000@forcharlotte.org
SUMMARY:GCCPN October Network Gathering
DESCRIPTION:Join us for our upcoming Network Gathering! This is a unique opportunity to build meaningful relationships\, unify the church across our city\, pray for church planters\, and inspire a vision for multiplication. \nLunch is provided\, and registration is free.
URL:https://forcharlotte.org/event/gccpn-october-network-gathering/
LOCATION:CityChurch Charlotte\, 2300 McClintock Rd\, Charlotte\, 28205\, United States
END:VEVENT
END:VCALENDAR