BEGIN:VCALENDAR
VERSION:2.0
PRODID:-//FORCLT - ECPv6.15.20//NONSGML v1.0//EN
CALSCALE:GREGORIAN
METHOD:PUBLISH
X-WR-CALNAME:FORCLT
X-ORIGINAL-URL:https://forcharlotte.org
X-WR-CALDESC:Events for FORCLT
REFRESH-INTERVAL;VALUE=DURATION:PT1H
X-Robots-Tag:noindex
X-PUBLISHED-TTL:PT1H
BEGIN:VTIMEZONE
TZID:America/New_York
BEGIN:DAYLIGHT
TZOFFSETFROM:-0500
TZOFFSETTO:-0400
TZNAME:EDT
DTSTART:20240310T070000
END:DAYLIGHT
BEGIN:STANDARD
TZOFFSETFROM:-0400
TZOFFSETTO:-0500
TZNAME:EST
DTSTART:20241103T060000
END:STANDARD
BEGIN:DAYLIGHT
TZOFFSETFROM:-0500
TZOFFSETTO:-0400
TZNAME:EDT
DTSTART:20250309T070000
END:DAYLIGHT
BEGIN:STANDARD
TZOFFSETFROM:-0400
TZOFFSETTO:-0500
TZNAME:EST
DTSTART:20251102T060000
END:STANDARD
BEGIN:DAYLIGHT
TZOFFSETFROM:-0500
TZOFFSETTO:-0400
TZNAME:EDT
DTSTART:20260308T070000
END:DAYLIGHT
BEGIN:STANDARD
TZOFFSETFROM:-0400
TZOFFSETTO:-0500
TZNAME:EST
DTSTART:20261101T060000
END:STANDARD
BEGIN:DAYLIGHT
TZOFFSETFROM:-0500
TZOFFSETTO:-0400
TZNAME:EDT
DTSTART:20270314T070000
END:DAYLIGHT
BEGIN:STANDARD
TZOFFSETFROM:-0400
TZOFFSETTO:-0500
TZNAME:EST
DTSTART:20271107T060000
END:STANDARD
END:VTIMEZONE
BEGIN:VEVENT
DTSTART;TZID=America/New_York:20260205T120000
DTEND;TZID=America/New_York:20260205T133000
DTSTAMP:20260420T001423
CREATED:20260123T235048Z
LAST-MODIFIED:20260123T235048Z
UID:5571-1770292800-1770298200@forcharlotte.org
SUMMARY:Northeast Pastoral Network Gathering | February
DESCRIPTION:This is a closed FORCLT Network. If you are interested in attending this Pastoral Network Gathering\, please contact FORCLT HERE. \nNortheast Pastoral Network meets on the first Thursday of every month.
URL:https://forcharlotte.org/event/northeast-pastoral-network-gathering-february/
END:VEVENT
BEGIN:VEVENT
DTSTART;TZID=America/New_York:20260205T074500
DTEND;TZID=America/New_York:20260205T090000
DTSTAMP:20260420T001423
CREATED:20260123T235142Z
LAST-MODIFIED:20260123T235229Z
UID:5584-1770277500-1770282000@forcharlotte.org
SUMMARY:East Pastoral Network Gathering | February
DESCRIPTION:This is a closed FORCLT Network. If you are interested in attending this Pastoral Network Gathering\, please contact FORCLT HERE. \nEast PN meets on the Thursday of the 2nd week of the month.
URL:https://forcharlotte.org/event/east-pastoral-network-gathering-february/
END:VEVENT
BEGIN:VEVENT
DTSTART;TZID=America/New_York:20260130T100000
DTEND;TZID=America/New_York:20260130T140000
DTSTAMP:20260420T001423
CREATED:20260109T165928Z
LAST-MODIFIED:20260109T165928Z
UID:5554-1769767200-1769781600@forcharlotte.org
SUMMARY:International House's Welcome to Charlotte Orientation
DESCRIPTION:International House is hosting a ‘Welcome to Charlotte’ Orientation for any immigrant or refugee newcomer families who are new to the Charlotte area. There will be a formal presentation from 10am-12pm\, introducing everyone to major resources here in Charlotte\, followed by optional 1:1 community navigation appointments for anyone who needs help looking for specific resources\, or getting connected with programs. \nDetails:\n🗓️Friday\, January 30th \n🕙10am-2pm \n📍International House – 1611 E 7th St.\, Charlotte\, NC 28204 \nℹ️2025 Welcome to Clt Flyer \n  \nRegister at the link below or visit International House HERE.
URL:https://forcharlotte.org/event/international-houses-welcome-to-charlotte-orientation/
LOCATION:International House 1611 E. 7th St. Charlotte\, NC 28204\, 1611 E. 7th St.\, Charlotte\, NC\, 28204\, United States
ORGANIZER;CN="International House":MAILTO:cmwangaza@ihclt.org
END:VEVENT
BEGIN:VEVENT
DTSTART;TZID=America/New_York:20260129T120000
DTEND;TZID=America/New_York:20260129T133000
DTSTAMP:20260420T001423
CREATED:20260122T030315Z
LAST-MODIFIED:20260122T030502Z
UID:5562-1769688000-1769693400@forcharlotte.org
SUMMARY:Uptown/Southend Pastoral Network Gathering | January
DESCRIPTION:This is a closed FORCLT Network. If you are interested in attending this Pastoral Network Gathering\, please contact FORCLT HERE. \nUptown/Southend Pastoral Network meets on the last Thursday of every month.
URL:https://forcharlotte.org/event/uptownsouthend-pastoral-network-gathering-january/
END:VEVENT
BEGIN:VEVENT
DTSTART;TZID=America/New_York:20260128T074500
DTEND;TZID=America/New_York:20260128T090000
DTSTAMP:20260420T001423
CREATED:20260122T030043Z
LAST-MODIFIED:20260122T030213Z
UID:5560-1769586300-1769590800@forcharlotte.org
SUMMARY:Southeast Pastoral Network Gathering | January
DESCRIPTION:This is a closed FORCLT Network. If you are interested in attending this Pastoral Network Gathering\, please contact FORCLT HERE. \nSoutheast Pastoral Network meets on the last Wednesday of every month.
URL:https://forcharlotte.org/event/southeast-pastoral-network-gathering-january/
END:VEVENT
BEGIN:VEVENT
DTSTART;TZID=America/New_York:20260111T160000
DTEND;TZID=America/New_York:20260111T190000
DTSTAMP:20260420T001423
CREATED:20251210T135908Z
LAST-MODIFIED:20251210T140156Z
UID:5543-1768147200-1768158000@forcharlotte.org
SUMMARY:Perspectives Course - South Charlotte
DESCRIPTION:Carmel Baptist Church is hosting Perspectives. \nPerspectives is a fifteen-lesson discipleship course exploring different aspects of God’s global purpose in a multi-faceted learning experience. The course examines the story of God fulfilling His promises from four vantage points or “perspectives” — Biblical\, Historical\, Cultural\, and Strategic. The Biblical and Historical sections establish the foundation of our confidence in the historic fact of God’s persistent work to make His name known to the nations from the dawn of history until today. The Cultural and Strategic sections highlight that we are in the midst of a costly but very “do-able” task. These sections confirm the Biblical and Historical hope we have with the invitation to co-labor with God in His mission. \nStart Date: Sunday\, January 11 through Sunday\, April 26 \nTime: 4:00 PM – 7:00 PM
URL:https://forcharlotte.org/event/perspectives-course-south-charlotte/
LOCATION:Carmel Baptist Church\, 1145 Pineville-Matthews Rd\, Matthews\, NC\, 28105\, United States
ORGANIZER;CN="Carmel Bpatist Church":MAILTO:questions@carmelbaptist.org
END:VEVENT
BEGIN:VEVENT
DTSTART;TZID=America/New_York:20251231T074500
DTEND;TZID=America/New_York:20251231T090000
DTSTAMP:20260420T001423
CREATED:20250619T023220Z
LAST-MODIFIED:20250619T190159Z
UID:5108-1767167100-1767171600@forcharlotte.org
SUMMARY:Southeast Pastoral Network Gathering | December
DESCRIPTION:This is a closed FORCLT Network. If you are interested in attending this Pastoral Network Gathering\, please contact FORCLT HERE. \nSoutheast Pastoral Network meets on the last Wednesday of every month.
URL:https://forcharlotte.org/event/southeast-pastoral-network-gathering-copy-copy-copy-copy-copy-copy/
END:VEVENT
BEGIN:VEVENT
DTSTART;TZID=America/New_York:20251225T120000
DTEND;TZID=America/New_York:20251225T133000
DTSTAMP:20260420T001423
CREATED:20250619T023146Z
LAST-MODIFIED:20250619T190354Z
UID:5106-1766664000-1766669400@forcharlotte.org
SUMMARY:Uptown/Southend Pastoral Network Gathering | December
DESCRIPTION:This is a closed FORCLT Network. If you are interested in attending this Pastoral Network Gathering\, please contact FORCLT HERE. \nUptown/Southend Pastoral Network meets on the last Thursday of every month.
URL:https://forcharlotte.org/event/uptown-southend-pastoral-network-gathering-copy-copy-copy-copy-copy-copy/
END:VEVENT
BEGIN:VEVENT
DTSTART;TZID=America/New_York:20251218T080000
DTEND;TZID=America/New_York:20251218T090000
DTSTAMP:20260420T001423
CREATED:20250619T023108Z
LAST-MODIFIED:20250619T190431Z
UID:5104-1766044800-1766048400@forcharlotte.org
SUMMARY:Fort Mill Pastoral Network Gathering | December
DESCRIPTION:This is a closed FORCLT Network. If you are interested in attending this Pastoral Network Gathering\, please contact FORCLT HERE. \nFort Mill Pastoral Network meets on the 3rd Thursday of every month.
URL:https://forcharlotte.org/event/fort-mill-pastoral-network-gathering-copy-copy-copy-copy-copy-copy/
END:VEVENT
BEGIN:VEVENT
DTSTART;TZID=America/New_York:20251217T120000
DTEND;TZID=America/New_York:20251217T133000
DTSTAMP:20260420T001423
CREATED:20250619T023034Z
LAST-MODIFIED:20250619T190504Z
UID:5102-1765972800-1765978200@forcharlotte.org
SUMMARY:Lake Norman Pastoral Network | December
DESCRIPTION:This is a closed FORCLT Network. If you are interested in attending this Pastoral Network Gathering\, please contact FORCLT HERE. \nLake Norman Pastoral Network meets on the 3rd Wednesday of the month.
URL:https://forcharlotte.org/event/lake-norman-pastoral-network-copy-copy-copy-copy-copy-copy/
END:VEVENT
BEGIN:VEVENT
DTSTART;TZID=America/New_York:20251215T120000
DTEND;TZID=America/New_York:20251215T130000
DTSTAMP:20260420T001423
CREATED:20250619T022954Z
LAST-MODIFIED:20250619T190610Z
UID:5100-1765800000-1765803600@forcharlotte.org
SUMMARY:Southwest Pastoral Network Gathering | December
DESCRIPTION:This is a closed FORCLT Network. If you are interested in attending this Pastoral Network Gathering\, please contact FORCLT HERE. \nSouthwest Pastoral Network meets on the 3rd Monday of every month.
URL:https://forcharlotte.org/event/southwest-pastoral-network-gathering-copy-copy-copy-copy-copy-copy/
END:VEVENT
BEGIN:VEVENT
DTSTART;VALUE=DATE:20251212
DTEND;VALUE=DATE:20251215
DTSTAMP:20260420T001423
CREATED:20250819T031055Z
LAST-MODIFIED:20250819T031119Z
UID:5325-1765497600-1765756799@forcharlotte.org
SUMMARY:The Marriage Hub December Intensive
DESCRIPTION:This is a three day marriage intensive program. There will be intimate\, personalized coaching sessions designed to help you identify the personal and relational issues confronting your marriage. \nPlease visit our website for more information and to contact us to register. \n*There is a cost associated with this event.
URL:https://forcharlotte.org/event/the-marriage-hub-august-intensive-copy-copy-copy-copy/
LOCATION:Charlotte
END:VEVENT
BEGIN:VEVENT
DTSTART;TZID=America/New_York:20251211T074500
DTEND;TZID=America/New_York:20251211T090000
DTSTAMP:20260420T001423
CREATED:20250619T022913Z
LAST-MODIFIED:20250619T190725Z
UID:5098-1765439100-1765443600@forcharlotte.org
SUMMARY:East Pastoral Network Gathering | December
DESCRIPTION:This is a closed FORCLT Network. If you are interested in attending this Pastoral Network Gathering\, please contact FORCLT HERE. \nEast PN meets on the Thursday of the 2nd week of the month.
URL:https://forcharlotte.org/event/east-pastoral-network-gathering-copy-copy-copy-copy-copy-copy/
END:VEVENT
BEGIN:VEVENT
DTSTART;TZID=America/New_York:20251204T120000
DTEND;TZID=America/New_York:20251204T133000
DTSTAMP:20260420T001423
CREATED:20250619T022839Z
LAST-MODIFIED:20250619T190812Z
UID:5096-1764849600-1764855000@forcharlotte.org
SUMMARY:Northeast Pastoral Network Gathering | December
DESCRIPTION:This is a closed FORCLT Network. If you are interested in attending this Pastoral Network Gathering\, please contact FORCLT HERE. \nNortheast Pastoral Network meets on the 1st Thursday of every month.
URL:https://forcharlotte.org/event/northeast-pastoral-network-gathering-copy-copy-copy-copy-copy/
END:VEVENT
BEGIN:VEVENT
DTSTART;TZID=America/New_York:20251127T120000
DTEND;TZID=America/New_York:20251127T133000
DTSTAMP:20260420T001423
CREATED:20250619T022746Z
LAST-MODIFIED:20250619T190835Z
UID:5094-1764244800-1764250200@forcharlotte.org
SUMMARY:Uptown/Southend Pastoral Network Gathering | November
DESCRIPTION:This is a closed FORCLT Network. If you are interested in attending this Pastoral Network Gathering\, please contact FORCLT HERE. \nUptown/Southend Pastoral Network meets on the last Thursday of every month.
URL:https://forcharlotte.org/event/uptown-southend-pastoral-network-gathering-copy-copy-copy-copy-copy/
END:VEVENT
BEGIN:VEVENT
DTSTART;TZID=America/New_York:20251126T074500
DTEND;TZID=America/New_York:20251126T090000
DTSTAMP:20260420T001423
CREATED:20250619T022714Z
LAST-MODIFIED:20250619T190909Z
UID:5092-1764143100-1764147600@forcharlotte.org
SUMMARY:Southeast Pastoral Network Gathering | November
DESCRIPTION:This is a closed FORCLT Network. If you are interested in attending this Pastoral Network Gathering\, please contact FORCLT HERE. \nSoutheast Pastoral Network meets on the last Wednesday of every month.
URL:https://forcharlotte.org/event/southeast-pastoral-network-gathering-copy-copy-copy-copy-copy/
END:VEVENT
BEGIN:VEVENT
DTSTART;TZID=America/New_York:20251122T140000
DTEND;TZID=America/New_York:20251122T150000
DTSTAMP:20260420T001423
CREATED:20251112T043221Z
LAST-MODIFIED:20251112T043221Z
UID:5537-1763820000-1763823600@forcharlotte.org
SUMMARY:Mint Hill Community Prayer Gathering
DESCRIPTION:You are invited to come and pray with other community leaders\, families\, students\, and friends in a renewed desire to stand in behalf for: \nGovernment\nSchools\nMarketplace\nChurches\nFamilies \nNo registration required! \nDETAILS: \nDate: November 22\, 2025 \nTime: 2:00pm \nLocation: Bain Elementary School Parking Lot
URL:https://forcharlotte.org/event/mint-hill-community-prayer-gathering/
LOCATION:Bain Elementary School Parking Lot\, 11540 Bain School Rd\, Charlotte\, NC\, 28227\, United States
END:VEVENT
BEGIN:VEVENT
DTSTART;VALUE=DATE:20251121
DTEND;VALUE=DATE:20251124
DTSTAMP:20260420T001423
CREATED:20250819T031012Z
LAST-MODIFIED:20250819T031042Z
UID:5323-1763683200-1763942399@forcharlotte.org
SUMMARY:The Marriage Hub November Intensive
DESCRIPTION:This is a three day marriage intensive program. There will be intimate\, personalized coaching sessions designed to help you identify the personal and relational issues confronting your marriage. \nPlease visit our website for more information and to contact us to register. \n*There is a cost associated with this event.
URL:https://forcharlotte.org/event/the-marriage-hub-august-intensive-copy-copy-copy/
LOCATION:Charlotte
END:VEVENT
BEGIN:VEVENT
DTSTART;TZID=America/New_York:20251120T080000
DTEND;TZID=America/New_York:20251120T090000
DTSTAMP:20260420T001423
CREATED:20250619T022642Z
LAST-MODIFIED:20250619T190953Z
UID:5090-1763625600-1763629200@forcharlotte.org
SUMMARY:Fort Mill Pastoral Network Gathering | November
DESCRIPTION:This is a closed FORCLT Network. If you are interested in attending this Pastoral Network Gathering\, please contact FORCLT HERE. \nFort Mill Pastoral Network meets on the 3rd Thursday of every month.
URL:https://forcharlotte.org/event/fort-mill-pastoral-network-gathering-copy-copy-copy-copy-copy/
END:VEVENT
BEGIN:VEVENT
DTSTART;TZID=America/New_York:20251119T120000
DTEND;TZID=America/New_York:20251119T133000
DTSTAMP:20260420T001423
CREATED:20250619T022602Z
LAST-MODIFIED:20250619T191053Z
UID:5088-1763553600-1763559000@forcharlotte.org
SUMMARY:Lake Norman Pastoral Network | November
DESCRIPTION:This is a closed FORCLT Network. If you are interested in attending this Pastoral Network Gathering\, please contact FORCLT HERE. \nLake Norman Pastoral Network meets on the 3rd Wednesday of the month.
URL:https://forcharlotte.org/event/lake-norman-pastoral-network-copy-copy-copy-copy-copy/
END:VEVENT
BEGIN:VEVENT
DTSTART;TZID=America/New_York:20251117T120000
DTEND;TZID=America/New_York:20251117T130000
DTSTAMP:20260420T001423
CREATED:20250619T022528Z
LAST-MODIFIED:20250619T191832Z
UID:5086-1763380800-1763384400@forcharlotte.org
SUMMARY:Southwest Pastoral Network Gathering | November
DESCRIPTION:This is a closed FORCLT Network. If you are interested in attending this Pastoral Network Gathering\, please contact FORCLT HERE. \nSouthwest Pastoral Network meets on the 3rd Monday of every month.
URL:https://forcharlotte.org/event/southwest-pastoral-network-gathering-copy-copy-copy-copy-copy/
END:VEVENT
BEGIN:VEVENT
DTSTART;TZID=America/New_York:20251113T093000
DTEND;TZID=America/New_York:20251113T113000
DTSTAMP:20260420T001423
CREATED:20251028T023726Z
LAST-MODIFIED:20251028T024155Z
UID:5460-1763026200-1763033400@forcharlotte.org
SUMMARY:CMS Multi-Faith Summit
DESCRIPTION:This gathering is designed to bring together local faith-based organizations and school leaders to build meaningful partnerships that directly support student achievement. Through the Adopt-a-School model\, faith groups are empowered to provide essential resources and relational support throughout the school year. \nThe summit will address key challenges such as: \nAcademic learning gaps \nUnmet basic needs \nLimited adult mentorship
URL:https://forcharlotte.org/event/cms-multi-faith-summit/
LOCATION:Myers Park United Methodist Church\, 1501 Queens Road\, Charlotte\, NC\, 28207\, United States
END:VEVENT
BEGIN:VEVENT
DTSTART;TZID=America/New_York:20251108T100000
DTEND;TZID=America/New_York:20251108T113000
DTSTAMP:20260420T001423
CREATED:20250422T040006Z
LAST-MODIFIED:20250422T040121Z
UID:4718-1762596000-1762601400@forcharlotte.org
SUMMARY:Regional Prayer Gatherings | November
DESCRIPTION:FORCLT is committed to mobilizing the Church to pray for the pastors\, churches\, and needs in Greater Charlotte. To that end\, FORCLT will host or partner with other agencies to host free to attend prayer gatherings for the city. Prayer leaders will gather every other month for a time of connection\, collaboration\, and prayer. Below are the locations of the different regional gatherings. All regions will be on November 8th from 10-11:30am. \n  \nNortheast Regional Prayer Gathering:  \nStoneBridge Church Community – 3700 Prosperity Church Rd.\, Charlotte\, NC 28269 \nNorthwest Regional Prayer Gathering: \nReeder Memorial Baptist Church – 3725 Beatties Ford Rd.\, Charlotte\, NC 28216 \nSoutheast Regional Prayer Gathering: \nCarmel Baptist Church – 1145 Pineville-Matthews Rd.\, Matthews\, NC 28105 \nSouthwest Regional Prayer Gathering: \nDavis Ministry Group – 756 Tyvola Rd.\, Suite 744\, Charlotte\, NC 28217 \n(located in the Arcade Square/Highland Park Commerce Center)
URL:https://forcharlotte.org/event/regional-prayer-gatherings-copy-copy/
LOCATION:Regional Locations
ORGANIZER;CN="For Charlotte | FORCLT":MAILTO:info@forcharlotte.org
END:VEVENT
BEGIN:VEVENT
DTSTART;TZID=America/New_York:20251107T120000
DTEND;TZID=America/New_York:20251107T140000
DTSTAMP:20260420T001423
CREATED:20251028T022702Z
LAST-MODIFIED:20251028T022702Z
UID:5448-1762516800-1762524000@forcharlotte.org
SUMMARY:Unifie Therapists Network November Gathering
DESCRIPTION:Uniting Faith-based Leaders\, Advocates & Christian Counselors \nThese meetings are intentionally designed to include: \nCommunity networking and connection \nSharing of resources\, tools\, and referrals \nOpen space for questions\, conversation\, and challenges \nA short devotional to encourage our spirits \nPrayer for one another\, for ministry\, and for those we serve \n  \nMark your calendar: \n Date: Friday\, November 7\, 2025 \n Time: 12:00 PM (Central Time) \n Format: Online \n  \nIf you’d like to attend\, please email admin@unifienetwork.com to receive the meeting link and details.
URL:https://forcharlotte.org/event/unifie-therapists-network-november-gathering/
LOCATION:Online
END:VEVENT
BEGIN:VEVENT
DTSTART;VALUE=DATE:20251107
DTEND;VALUE=DATE:20251110
DTSTAMP:20260420T001423
CREATED:20250602T170932Z
LAST-MODIFIED:20250602T171532Z
UID:4886-1762473600-1762732799@forcharlotte.org
SUMMARY:The Well Summit
DESCRIPTION:The Outpost: Carolinas experience includes four weeks of in-person pre-work in October with campers\, a three-day / two-night in-person retreat in November\, and three weeks of guided post-work in January. \nWhether you are seeking rest\, inspiration\, or direction\, Outpost: Carolinas is a place to breathe deeply\, find clarity\, and build lasting connections alongside women in your community. \nAn intentional experience for women in the Carolinas and surrounding region — an invitation to step away\, settle in\, and encounter Jesus in a fresh way. Here\, you’ll find space to rest\, rhythms to carry with you\, and a deeper knowing of the One who leads you forward.
URL:https://forcharlotte.org/event/the-well-summit/
LOCATION:Kanuga Retreat Center 130 Kanuga Chapel Drive Hendersonville\, NC 28739\, 130 Kanuga Chapel Drive\, Hendersonville\, NC\, 28739\, United States
END:VEVENT
BEGIN:VEVENT
DTSTART;TZID=America/New_York:20251106T180000
DTEND;TZID=America/New_York:20251106T200000
DTSTAMP:20260420T001423
CREATED:20251005T195049Z
LAST-MODIFIED:20251005T195049Z
UID:5391-1762452000-1762459200@forcharlotte.org
SUMMARY:Search IPO 2.0 | Investing in the growth of search for men and women in the next generation.
DESCRIPTION:Join us as we celebrate what God has done in the Carolinas over the last five years and hear about the opportunity to invest strategically for the cause of Christ.\n\n\n \n\nNovember 6\n6:00–8:00 PM // Program is from 7:00–7:30\nNorfolk Hall at Suffolk Punch\n\n📍 2911 Griffith St\, Charlotte\, NC 28203\n\n\n \n\n\nEvent Info\n\n\n– Light hors d’oeuvres\, beer and wine will be served\n\n\n– The light rail stops at the site. Also consider Uber\, Lyft\, or carpool.\n\n\n– Bring your spouse/guest!\n\n\n \n\n\nPlease RSVP\, if you are coming\, by October 29.
URL:https://forcharlotte.org/event/search-ipo-2-0-investing-in-the-growth-of-search-for-men-and-women-in-the-next-generation/
LOCATION:Norfolk Hall at Suffolk Punch\, 2911 Griffith St\, Charlotte\, NC\, 28203\, United States
END:VEVENT
BEGIN:VEVENT
DTSTART;TZID=America/New_York:20251106T120000
DTEND;TZID=America/New_York:20251106T133000
DTSTAMP:20260420T001423
CREATED:20250619T022444Z
LAST-MODIFIED:20250619T191903Z
UID:5084-1762430400-1762435800@forcharlotte.org
SUMMARY:Northeast Pastoral Network Gathering | November
DESCRIPTION:This is a closed FORCLT Network. If you are interested in attending this Pastoral Network Gathering\, please contact FORCLT HERE. \nNortheast Pastoral Network meets on the 1st Thursday of every month.
URL:https://forcharlotte.org/event/northeast-pastoral-network-gathering-copy-copy-copy-copy/
END:VEVENT
BEGIN:VEVENT
DTSTART;TZID=America/New_York:20251106T074500
DTEND;TZID=America/New_York:20251106T090000
DTSTAMP:20260420T001423
CREATED:20250619T022401Z
LAST-MODIFIED:20250619T191934Z
UID:5082-1762415100-1762419600@forcharlotte.org
SUMMARY:East Pastoral Network Gathering | November
DESCRIPTION:This is a closed FORCLT Network. If you are interested in attending this Pastoral Network Gathering\, please contact FORCLT HERE. \nEast PN meets on the Thursday of the 2nd week of the month.
URL:https://forcharlotte.org/event/east-pastoral-network-gathering-copy-copy-copy-copy-copy/
END:VEVENT
BEGIN:VEVENT
DTSTART;TZID=America/New_York:20251104T170000
DTEND;TZID=America/New_York:20251104T200000
DTSTAMP:20260420T001423
CREATED:20251005T192159Z
LAST-MODIFIED:20251005T192159Z
UID:5383-1762275600-1762286400@forcharlotte.org
SUMMARY:An Evening With Bear Grylls
DESCRIPTION:Join Open Eyes for a powerful evening with world-renowned adventurer and survival expert Bear Grylls. Through stories of courage\, resilience\, and lessons learned from the wild\, Bear will share how he has faced challenges and what continues to drive him forward. Alongside him\, Open Eyes will highlight their mission to equip and support local leaders serving in some of the hardest places in the world. This inspiring fireside chat will challenge you to think differently about perseverance\, hope\, and the impact one person can make.
URL:https://forcharlotte.org/event/an-evening-with-bear-grylls/
LOCATION:Carolina Theatre\, 230 N. Tryon St.\, Charlotte\, NC\, 28202\, United States
END:VEVENT
BEGIN:VEVENT
DTSTART;TZID=America/New_York:20251030T120000
DTEND;TZID=America/New_York:20251030T133000
DTSTAMP:20260420T001423
CREATED:20250619T022227Z
LAST-MODIFIED:20250619T192004Z
UID:5080-1761825600-1761831000@forcharlotte.org
SUMMARY:Uptown/Southend Pastoral Network Gathering | October
DESCRIPTION:This is a closed FORCLT Network. If you are interested in attending this Pastoral Network Gathering\, please contact FORCLT HERE. \nUptown/Southend Pastoral Network meets on the last Thursday of every month.
URL:https://forcharlotte.org/event/uptown-southend-pastoral-network-gathering-copy-copy-copy-copy/
END:VEVENT
END:VCALENDAR