BEGIN:VCALENDAR
VERSION:2.0
PRODID:-//FORCLT - ECPv6.15.20//NONSGML v1.0//EN
CALSCALE:GREGORIAN
METHOD:PUBLISH
X-WR-CALNAME:FORCLT
X-ORIGINAL-URL:https://forcharlotte.org
X-WR-CALDESC:Events for FORCLT
REFRESH-INTERVAL;VALUE=DURATION:PT1H
X-Robots-Tag:noindex
X-PUBLISHED-TTL:PT1H
BEGIN:VTIMEZONE
TZID:America/New_York
BEGIN:DAYLIGHT
TZOFFSETFROM:-0500
TZOFFSETTO:-0400
TZNAME:EDT
DTSTART:20250309T070000
END:DAYLIGHT
BEGIN:STANDARD
TZOFFSETFROM:-0400
TZOFFSETTO:-0500
TZNAME:EST
DTSTART:20251102T060000
END:STANDARD
BEGIN:DAYLIGHT
TZOFFSETFROM:-0500
TZOFFSETTO:-0400
TZNAME:EDT
DTSTART:20260308T070000
END:DAYLIGHT
BEGIN:STANDARD
TZOFFSETFROM:-0400
TZOFFSETTO:-0500
TZNAME:EST
DTSTART:20261101T060000
END:STANDARD
BEGIN:DAYLIGHT
TZOFFSETFROM:-0500
TZOFFSETTO:-0400
TZNAME:EDT
DTSTART:20270314T070000
END:DAYLIGHT
BEGIN:STANDARD
TZOFFSETFROM:-0400
TZOFFSETTO:-0500
TZNAME:EST
DTSTART:20271107T060000
END:STANDARD
END:VTIMEZONE
BEGIN:VEVENT
DTSTART;TZID=America/New_York:20260318T120000
DTEND;TZID=America/New_York:20260318T133000
DTSTAMP:20260420T001744
CREATED:20260124T000708Z
LAST-MODIFIED:20260124T000742Z
UID:5605-1773835200-1773840600@forcharlotte.org
SUMMARY:Lake Norman Pastoral Network | March
DESCRIPTION:This is a closed FORCLT Network. If you are interested in attending this Pastoral Network Gathering\, please contact FORCLT HERE. \nLake Norman Pastoral Network meets on the 3rd Wednesday of the month.
URL:https://forcharlotte.org/event/lake-norman-pastoral-network-march/
LOCATION:NC
END:VEVENT
BEGIN:VEVENT
DTSTART;TZID=America/New_York:20260318T090000
DTEND;TZID=America/New_York:20260318T120000
DTSTAMP:20260420T001744
CREATED:20260302T041306Z
LAST-MODIFIED:20260302T041704Z
UID:5953-1773824400-1773835200@forcharlotte.org
SUMMARY:The Forum at Hope Haven | Ethics and Boundaries Workshop
DESCRIPTION:Join us at The Forum for this engaging and innovative approach to this required and important topic for staff at all levels. Re-think and understand more deeply the impact of ethics and boundaries day to day. \n  \nDETAILS: \nDate: March 18th \nTime: 9am-12pm \nLocation: The Forum | 120 W. Craighead St.\, Charlotte\, NC \nEnter at the yellow gate on W. Craighead (at the back of the Hope Haven property). The Forum is the last building on the left. \nRegister: CLICK HERE
URL:https://forcharlotte.org/event/the-forum-at-hope-haven-ethics-and-boundaries-workshop/
LOCATION:The Forum\, 120 W. Craighead St.\, Charlotte\, NC\, United States
END:VEVENT
BEGIN:VEVENT
DTSTART;TZID=America/New_York:20260316T120000
DTEND;TZID=America/New_York:20260316T130000
DTSTAMP:20260420T001744
CREATED:20260124T000614Z
LAST-MODIFIED:20260124T000634Z
UID:5603-1773662400-1773666000@forcharlotte.org
SUMMARY:Southwest Pastoral Network Gathering | March
DESCRIPTION:This is a closed FORCLT Network. If you are interested in attending this Pastoral Network Gathering\, please contact FORCLT HERE. \nSouthwest Pastoral Network meets on the 3rd Monday of every month.
URL:https://forcharlotte.org/event/southwest-pastoral-network-gathering-march/
LOCATION:NC
END:VEVENT
BEGIN:VEVENT
DTSTART;TZID=America/New_York:20260314T100000
DTEND;TZID=America/New_York:20260314T113000
DTSTAMP:20260420T001744
CREATED:20260124T000300Z
LAST-MODIFIED:20260124T000441Z
UID:5600-1773482400-1773487800@forcharlotte.org
SUMMARY:Regional Prayer Gatherings | March
DESCRIPTION:FORCLT is committed to mobilizing the Church to pray for the pastors\, churches\, and needs in Greater Charlotte. To that end\, FORCLT will host or partner with other agencies to host free to attend prayer gatherings for the city. Prayer leaders will gather every other month for a time of connection\, collaboration\, and prayer. Below are the locations of the different regional gatherings. All regions will be on March 14th from 10-11:30am. \n  \nNortheast Regional Prayer Gathering:  \nStoneBridge Church Community – 3700 Prosperity Church Rd.\, Charlotte\, NC 28269 \nNorthwest Regional Prayer Gathering: \nReeder Memorial Baptist Church – 3725 Beatties Ford Rd.\, Charlotte\, NC 28216 \nSoutheast Regional Prayer Gathering: \nCarmel Baptist Church – 1145 Pineville-Matthews Rd.\, Matthews\, NC 28105 \nSouthwest Regional Prayer Gathering: \nDavis Ministry Group – 756 Tyvola Rd.\, Suite 744\, Charlotte\, NC 28217 \n(located in the Arcade Square/Highland Park Commerce Center)
URL:https://forcharlotte.org/event/regional-prayer-gatherings-march/
LOCATION:Regional Locations
ORGANIZER;CN="For Charlotte | FORCLT":MAILTO:info@forcharlotte.org
END:VEVENT
BEGIN:VEVENT
DTSTART;TZID=America/New_York:20260314T083000
DTEND;TZID=America/New_York:20260314T143000
DTSTAMP:20260420T001744
CREATED:20260302T043115Z
LAST-MODIFIED:20260302T043115Z
UID:5959-1773477000-1773498600@forcharlotte.org
SUMMARY:The Partner Powered Conference
DESCRIPTION:Saturday\, March 14th | 8:30 AM – 2:30 PM\nProject 658 | 3646 Central Ave. Charlotte\, NC 28205 \nWe invite you to join us for a day of relationship-building and development that will allow our community to thrive for years. \nThis in-person training features classes on coaching\, leadership\, and more! \nWhen we are connected\, we build a stronger web of resilience for those we serve: families with young children. \nCheck out the day of schedule HERE.
URL:https://forcharlotte.org/event/the-partner-powered-conference/
LOCATION:Project 658\, 3646 Central Ave.\, Charlotte\, NC\, 28205\, United States
END:VEVENT
BEGIN:VEVENT
DTSTART;TZID=America/New_York:20260313T100000
DTEND;TZID=America/New_York:20260313T120000
DTSTAMP:20260420T001744
CREATED:20260302T042420Z
LAST-MODIFIED:20260302T042420Z
UID:5955-1773396000-1773403200@forcharlotte.org
SUMMARY:International House's Travel Training Class
DESCRIPTION:Many newly arrived families face challenges navigating Charlotte’s transit system\, especially those without access to a personal vehicle. This training is designed to help participants become more comfortable and confident using public transportation. \n  \n\nEvent Details: Friday\, March 13th at 10am \n\n\n Location: International House – 1611 E. 7th Street\, Charlotte\, NC 28204\n Format: We will begin with a travel training presentation at our office\, followed by a hands-on community outing to apply the tools learned during the session. \nFor more information: 2026 Travel Orientation Flyer \nTo register: CLICK HERE
URL:https://forcharlotte.org/event/international-houses-travel-training-class/
LOCATION:International House 1611 E. 7th St. Charlotte\, NC 28204\, 1611 E. 7th St.\, Charlotte\, NC\, 28204\, United States
ORGANIZER;CN="International House":MAILTO:cmwangaza@ihclt.org
END:VEVENT
BEGIN:VEVENT
DTSTART;TZID=America/New_York:20260313T090000
DTEND;TZID=America/New_York:20260313T120000
DTSTAMP:20260420T001744
CREATED:20260302T041014Z
LAST-MODIFIED:20260302T041149Z
UID:5951-1773392400-1773403200@forcharlotte.org
SUMMARY:The Forum at Hope Haven | Trauma Informed Care Class
DESCRIPTION:Join us at The Forum for our Trauma class. Trauma influences our clients and ourselves. Explore the meaning of trauma and what it means to respond in ways that are trauma informed. \n  \nDETAILS: \nDate: March 13th \nTime: 9am-12pm \nLocation: The Forum | 120 W. Craighead St.\, Charlotte\, NC \nEnter at the yellow gate on W. Craighead (at the back of the Hope Haven property). The Forum is the last building on the left. \nRegister: CLICK HERE
URL:https://forcharlotte.org/event/the-forum-at-hope-haven-trauma-informed-care-class/
LOCATION:The Forum\, 120 W. Craighead St.\, Charlotte\, NC\, United States
END:VEVENT
BEGIN:VEVENT
DTSTART;TZID=America/New_York:20260306T090000
DTEND;TZID=America/New_York:20260306T120000
DTSTAMP:20260420T001744
CREATED:20260302T040541Z
LAST-MODIFIED:20260302T040836Z
UID:5949-1772787600-1772798400@forcharlotte.org
SUMMARY:The Forum at Hope Haven's Motivational Interviewing Workshop
DESCRIPTION:Join us at The Forum for our motivational interviewing class. Use Motivational Interviewing Skills to focus on change and positive outcomes. Practice and develop new change focused strategies. \n  \nDETAILS: \nDate: March 6th \nTime: 9am-12pm \nLocation: The Forum | 120 W. Craighead St.\, Charlotte\, NC \nEnter at the yellow gate on W. Craighead (at the back of the Hope Haven property). The Forum is the last building on the left. \nRegister: CLICK HERE
URL:https://forcharlotte.org/event/the-forum-at-hope-havens-motivational-interviewing-workshop/
LOCATION:The Forum\, 120 W. Craighead St.\, Charlotte\, NC\, United States
END:VEVENT
BEGIN:VEVENT
DTSTART;TZID=America/New_York:20260305T120000
DTEND;TZID=America/New_York:20260305T133000
DTSTAMP:20260420T001744
CREATED:20260124T000052Z
LAST-MODIFIED:20260124T000127Z
UID:5596-1772712000-1772717400@forcharlotte.org
SUMMARY:Northeast Pastoral Network Gathering | March
DESCRIPTION:This is a closed FORCLT Network. If you are interested in attending this Pastoral Network Gathering\, please contact FORCLT HERE. \nNortheast Pastoral Network meets on the first Thursday of every month.
URL:https://forcharlotte.org/event/northeast-pastoral-network-gathering-march/
LOCATION:NC
END:VEVENT
BEGIN:VEVENT
DTSTART;TZID=America/New_York:20260305T090000
DTEND;TZID=America/New_York:20260305T160000
DTSTAMP:20260420T001744
CREATED:20260127T201738Z
LAST-MODIFIED:20260127T201738Z
UID:5621-1772701200-1772726400@forcharlotte.org
SUMMARY:The Steadfast Women Speaker Forum
DESCRIPTION:Join us on March 5th from 9am-4pm and learn how a woman’s every day shapes an eternal legacy. Be challenged to be a transformative force for Truth\, clarity\, & enduring values! \nYou can expect to: \n\nExperience scripture-focused teaching from renowned leaders.\nMeaningful praise and worship music.\nGuided discussions and practical tools to develop your personal spiritual growth\, increase your Kingdom impact to leave an eternal legacy.\nBuild community with other women of faith and influence.\nEnjoy both a delicious breakfast and lunch in the exclusive venue of the Club at Longview.\nReceive a swag bag and complimentary copy of Only One Life.\n\nFor more details and to register\, click HERE.
URL:https://forcharlotte.org/event/the-steadfast-women-speaker-forum/
LOCATION:The Club at Longview\, 8801 Longview Club Drive\, Waxhaw\, NC\, 28173\, United States
END:VEVENT
BEGIN:VEVENT
DTSTART;TZID=America/New_York:20260305T074500
DTEND;TZID=America/New_York:20260305T090000
DTSTAMP:20260420T001744
CREATED:20260124T000152Z
LAST-MODIFIED:20260124T000210Z
UID:5598-1772696700-1772701200@forcharlotte.org
SUMMARY:East Pastoral Network Gathering | March
DESCRIPTION:This is a closed FORCLT Network. If you are interested in attending this Pastoral Network Gathering\, please contact FORCLT HERE. \nEast PN meets on the Thursday of the 2nd week of the month.
URL:https://forcharlotte.org/event/east-pastoral-network-gathering-march/
LOCATION:NC
END:VEVENT
BEGIN:VEVENT
DTSTART;TZID=America/New_York:20260303T190000
DTEND;TZID=America/New_York:20260303T203000
DTSTAMP:20260420T001744
CREATED:20260208T221455Z
LAST-MODIFIED:20260208T221455Z
UID:5863-1772564400-1772569800@forcharlotte.org
SUMMARY:Charlotte Institute for Faith & Work' Redemptive Leadership
DESCRIPTION:Most Christians long to honor God in every area of life—including the work they do each day\, whether that work is done for a paycheck or offered freely in service to others. But translating that desire into practical\, lived-out faith can feel elusive. \nJoin us for an immersive\, cinematic storytelling experience as Jordan Raynor—a leading voice in the faith-and-work movement—brings this question to life through powerful portraits of Five Mere Christians. These ordinary men and women quietly shaped history through redemptive leadership—without ever stepping behind a pulpit. \n  \nDETAILS: \nDate: Tuesday\, March 3\, 2026 \nTime: 7:00 pm – 8:30 pm (doors open at 6:30 pm) \nLocation: Forest Hill Church — Southpark (7224 Park Road\, Charlotte\, NC) \nCost: $20; includes a complimentary copy of Jordan’s latest book\, Five Mere Christians. \nLink to Register: HERE \n 
URL:https://forcharlotte.org/event/charlotte-institute-for-faith-work-redemptive-leadership/
LOCATION:Forest Hill Church\, 7224 Park Rd\, Charlotte\, NC\, 28210
END:VEVENT
BEGIN:VEVENT
DTSTART;TZID=America/New_York:20260227T090000
DTEND;TZID=America/New_York:20260227T120000
DTSTAMP:20260420T001744
CREATED:20260210T021431Z
LAST-MODIFIED:20260210T021622Z
UID:5911-1772182800-1772193600@forcharlotte.org
SUMMARY:The Forum at Hope Haven's Prevent Harm & Increase Engagement Class
DESCRIPTION:Join us at The Forum for our Reducing Risk in Substance Use and Mental Health class. Applying the philosophy of harm reduction can be an important first step in engaging clients toward positive change and preventing further harm and decline. Engaging class with real life examples. \n  \nDETAILS: \nDate: February 27th \nTime: 9am-12pm \nLocation: The Forum | 120 W. Craighead St.\, Charlotte\, NC \nEnter at the yellow gate on W. Craighead (at the back of the Hope Haven property). The Forum is the last building on the left. \nRegister: CLICK HERE
URL:https://forcharlotte.org/event/the-forum-at-hope-havens-prevent-harm-increase-engagement-class/
LOCATION:The Forum\, 120 W. Craighead St.\, Charlotte\, NC\, United States
END:VEVENT
BEGIN:VEVENT
DTSTART;TZID=America/New_York:20260226T180000
DTEND;TZID=America/New_York:20260226T193000
DTSTAMP:20260420T001744
CREATED:20260210T031558Z
LAST-MODIFIED:20260210T031558Z
UID:5913-1772128800-1772134200@forcharlotte.org
SUMMARY:Lifeline Charlotte's Community Pack Event
DESCRIPTION:Join a meal pack event at the Charlotte Centre to serve and celebrate with our community! The next community pack event will be on February 26th from 6-7:30pm. \nPlease take a minute to review their participant guidelines HERE. \nFor more information and to register\, visit HERE.
URL:https://forcharlotte.org/event/lifeline-charlottes-community-pack-event/
LOCATION:Lifeline Charlotte\, 325 McGill Ave NW\, Suite 175\, Concord\, NC\, 28027\, United States
END:VEVENT
BEGIN:VEVENT
DTSTART;TZID=America/New_York:20260226T120000
DTEND;TZID=America/New_York:20260226T133000
DTSTAMP:20260420T001744
CREATED:20260123T235826Z
LAST-MODIFIED:20260123T235847Z
UID:5594-1772107200-1772112600@forcharlotte.org
SUMMARY:Uptown/Southend Pastoral Network Gathering | February
DESCRIPTION:This is a closed FORCLT Network. If you are interested in attending this Pastoral Network Gathering\, please contact FORCLT HERE. \nUptown/Southend Pastoral Network meets on the last Thursday of every month.
URL:https://forcharlotte.org/event/uptownsouthend-pastoral-network-gathering-february/
LOCATION:NC
END:VEVENT
BEGIN:VEVENT
DTSTART;TZID=America/New_York:20260225T090000
DTEND;TZID=America/New_York:20260225T120000
DTSTAMP:20260420T001744
CREATED:20260210T013619Z
LAST-MODIFIED:20260210T013657Z
UID:5882-1772010000-1772020800@forcharlotte.org
SUMMARY:Mission Charlotte | Strategic Planning Workshops | February 25
DESCRIPTION:Mission Charlotte is hosting an upcoming workshop in February focused on organizational measurement for church and nonprofit leaders. This workshop is for anyone looking to better understand how to measure what matters\, whether you are just starting out or refining existing practices. Join other leaders across the city committed to growing in this area. The same curriculum will be offered on two dates at two locations. You only need to register for one. \n  \nDETAILS: \nDates: February 17 & 25 \n Time: 9 AM – 12 PM \n️ Venues: \nFebruary 17 – New City Church Matthews (11011 Monroe Rd\, Matthews\, NC 28105) \nFebruary 25 – First Baptist Church (301 S Davidson St\, Charlotte\, NC \nRegister:  \nFebruary 17 – CLICK HERE \nFebruary 25 – CLICK HERE
URL:https://forcharlotte.org/event/mission-charlotte-strategic-planning-workshops-february-25/
LOCATION:First Baptist Church of Charlotte\, 301 S. Davidson St.\, Charlotte\, NC\, 28202
ORGANIZER;CN="Mission Charlotte":MAILTO:admin@missioncharlotte.org
END:VEVENT
BEGIN:VEVENT
DTSTART;TZID=America/New_York:20260225T074500
DTEND;TZID=America/New_York:20260225T090000
DTSTAMP:20260420T001744
CREATED:20260123T235733Z
LAST-MODIFIED:20260123T235753Z
UID:5592-1772005500-1772010000@forcharlotte.org
SUMMARY:Southeast Pastoral Network Gathering | February
DESCRIPTION:This is a closed FORCLT Network. If you are interested in attending this Pastoral Network Gathering\, please contact FORCLT HERE. \nSoutheast Pastoral Network meets on the last Wednesday of every month.
URL:https://forcharlotte.org/event/southeast-pastoral-network-gathering-february/
LOCATION:NC
END:VEVENT
BEGIN:VEVENT
DTSTART;TZID=America/New_York:20260224T130000
DTEND;TZID=America/New_York:20260224T150000
DTSTAMP:20260420T001744
CREATED:20260221T040956Z
LAST-MODIFIED:20260221T040956Z
UID:5935-1771938000-1771945200@forcharlotte.org
SUMMARY:Faith and Safety: A Community Conversation
DESCRIPTION:Faith leaders\, join us on February 24th for a community conversation with CMPD’s new Chief of Police\, Chief Estella D. Patterson. \nRather than gathering only in moments of need\, Chief Estella D. Patterson is seeking to build familiarity\, trust\, and mutual understanding in advance—recognizing the important role faith leaders play in shaping community awareness\, dialogue\, and stability. \n  \nDETAILS \nDate: February 24\, 2026 \nTime: 1:00 P.M. \nLocation: Park Expo Center (2500 E. Independence Blvd.\, Charlotte\, NC) \nRSVP: www.tinyurl.com/faithandsafetyclt
URL:https://forcharlotte.org/event/faith-and-safety-a-community-conversation/
LOCATION:Park Expo Center\, 2500 E. Independence Blvd.\, Charlotte\, NC\, United States
END:VEVENT
BEGIN:VEVENT
DTSTART;TZID=America/New_York:20260220T130000
DTEND;TZID=America/New_York:20260220T160000
DTSTAMP:20260420T001744
CREATED:20260210T021104Z
LAST-MODIFIED:20260210T021251Z
UID:5909-1771592400-1771603200@forcharlotte.org
SUMMARY:The Forum at Hope Haven's Case Management Class
DESCRIPTION:Join us at The Forum for our Integrated Case Management class. Expert trainer Senemeht Olatunji offers an overview of case management skills that will refresh and enhance your practice at all levels. Increase your confidence and add to your case management tool box! \n  \nDETAILS: \nDate: February 20th \nTime: 1-4pm \nLocation: The Forum | 120 W. Craighead St.\, Charlotte\, NC \nEnter at the yellow gate on W. Craighead (at the back of the Hope Haven property). The Forum is the last building on the left. \nRegister: CLICK HERE
URL:https://forcharlotte.org/event/the-forum-at-hope-havens-case-management-class/
LOCATION:The Forum\, 120 W. Craighead St.\, Charlotte\, NC\, United States
END:VEVENT
BEGIN:VEVENT
DTSTART;TZID=America/New_York:20260220T090000
DTEND;TZID=America/New_York:20260220T120000
DTSTAMP:20260420T001744
CREATED:20260210T020852Z
LAST-MODIFIED:20260210T021022Z
UID:5907-1771578000-1771588800@forcharlotte.org
SUMMARY:The Forum at Hope Haven's Substance Use Disorder Class
DESCRIPTION:Join us at The Forum for our Substance Use Disorder Basics and Referral Resources class. Explore the signs\, symptoms and effective interventions for those challenged by SUD. Up-to-date community resources and connections! \n  \nDETAILS: \nDate: February 20th \nTime: 9am-12pm \nLocation: The Forum | 120 W. Craighead St.\, Charlotte\, NC \nEnter at the yellow gate on W. Craighead (at the back of the Hope Haven property). The Forum is the last building on the left. \nRegister: CLICK HERE
URL:https://forcharlotte.org/event/the-forum-at-hope-havens-substance-use-disorder-class/
LOCATION:The Forum\, 120 W. Craighead St.\, Charlotte\, NC\, United States
END:VEVENT
BEGIN:VEVENT
DTSTART;TZID=America/New_York:20260219T080000
DTEND;TZID=America/New_York:20260219T090000
DTSTAMP:20260420T001744
CREATED:20260123T235624Z
LAST-MODIFIED:20260123T235647Z
UID:5590-1771488000-1771491600@forcharlotte.org
SUMMARY:Fort Mill Pastoral Network Gathering | February
DESCRIPTION:This is a closed FORCLT Network. If you are interested in attending this Pastoral Network Gathering\, please contact FORCLT HERE. \nFort Mill Pastoral Network meets on the 3rd Thursday of every month.
URL:https://forcharlotte.org/event/fort-mill-pastoral-network-gathering-february/
LOCATION:NC
END:VEVENT
BEGIN:VEVENT
DTSTART;TZID=America/New_York:20260218T120000
DTEND;TZID=America/New_York:20260218T133000
DTSTAMP:20260420T001744
CREATED:20260123T235530Z
LAST-MODIFIED:20260123T235552Z
UID:5588-1771416000-1771421400@forcharlotte.org
SUMMARY:Lake Norman Pastoral Network | February
DESCRIPTION:This is a closed FORCLT Network. If you are interested in attending this Pastoral Network Gathering\, please contact FORCLT HERE. \nLake Norman Pastoral Network meets on the 3rd Wednesday of the month.
URL:https://forcharlotte.org/event/lake-norman-pastoral-network-february/
LOCATION:NC
END:VEVENT
BEGIN:VEVENT
DTSTART;TZID=America/New_York:20260217T090000
DTEND;TZID=America/New_York:20260217T120000
DTSTAMP:20260420T001744
CREATED:20260210T012612Z
LAST-MODIFIED:20260210T013804Z
UID:5878-1771318800-1771329600@forcharlotte.org
SUMMARY:Mission Charlotte | Strategic Planning Workshops | February 17
DESCRIPTION:Mission Charlotte is hosting an upcoming workshop in February focused on organizational measurement for church and nonprofit leaders. This workshop is for anyone looking to better understand how to measure what matters\, whether you are just starting out or refining existing practices. Join other leaders across the city committed to growing in this area. The same curriculum will be offered on two dates at two locations. You only need to register for one. \n  \nDETAILS: \nDates: February 17 & 25 \n Time: 9 AM – 12 PM \n️ Venues: \nFebruary 17 – New City Church Matthews (11011 Monroe Rd\, Matthews\, NC 28105) \nFebruary 25 – First Baptist Church (301 S Davidson St\, Charlotte\, NC \nRegister:  \nFebruary 17 – CLICK HERE \nFebruary 25 – CLICK HERE
URL:https://forcharlotte.org/event/mission-charlotte-organizational-measurement-workshops-february/
LOCATION:New City Church – Matthews\, 11011 Monroe Rd\, Matthews\, NC\, 28105\, United States
ORGANIZER;CN="Mission Charlotte":MAILTO:admin@missioncharlotte.org
END:VEVENT
BEGIN:VEVENT
DTSTART;TZID=America/New_York:20260216T120000
DTEND;TZID=America/New_York:20260216T130000
DTSTAMP:20260420T001744
CREATED:20260123T235330Z
LAST-MODIFIED:20260123T235401Z
UID:5586-1771243200-1771246800@forcharlotte.org
SUMMARY:Southwest Pastoral Network Gathering | February
DESCRIPTION:This is a closed FORCLT Network. If you are interested in attending this Pastoral Network Gathering\, please contact FORCLT HERE. \nSouthwest Pastoral Network meets on the 3rd Monday of every month.
URL:https://forcharlotte.org/event/southwest-pastoral-network-gathering-february/
LOCATION:NC
END:VEVENT
BEGIN:VEVENT
DTSTART;TZID=America/New_York:20260213T090000
DTEND;TZID=America/New_York:20260213T120000
DTSTAMP:20260420T001744
CREATED:20260210T020726Z
LAST-MODIFIED:20260210T020726Z
UID:5900-1770973200-1770984000@forcharlotte.org
SUMMARY:The Forum at Hope Haven's De-escalation Class
DESCRIPTION:Join us at The Forum for our De-escalation: Creating Calm and Safety class. You will learn proven tools and strategies to create calm and safety when emotions run high. Real life practice and situations that will increase your confidence in de-escalating. \n  \nDETAILS: \nDate: February 13th \nTime: 9am-12pm \nLocation: The Forum | 120 W. Craighead St.\, Charlotte\, NC \nEnter at the yellow gate on W. Craighead (at the back of the Hope Haven property). The Forum is the last building on the left. \nRegister: CLICK HERE
URL:https://forcharlotte.org/event/the-forum-at-hope-havens-de-escalation-class/
LOCATION:The Forum\, 120 W. Craighead St.\, Charlotte\, NC\, United States
END:VEVENT
BEGIN:VEVENT
DTSTART;TZID=America/New_York:20260206T183000
DTEND;TZID=America/New_York:20260207T163000
DTSTAMP:20260420T001744
CREATED:20251028T030038Z
LAST-MODIFIED:20251028T030202Z
UID:5473-1770402600-1770481800@forcharlotte.org
SUMMARY:The Art of the Psalms: Ancient Creativity\, Contemporary Imagination
DESCRIPTION:On February 6-7th come join us as we engage with the Psalms through music\, visual art\, poetry\, liturgy\, dance\, sermons\, workshops\, and more. \nTo learn more and to register\, visit this LINK.
URL:https://forcharlotte.org/event/the-art-of-the-psalms-ancient-creativity-contemporary-imagination/
LOCATION:Gordon Conwell Theological Seminary\, 14542 Choate Cir\, Charlotte\, NC\, 28273\, United States
END:VEVENT
BEGIN:VEVENT
DTSTART;TZID=America/New_York:20260205T120000
DTEND;TZID=America/New_York:20260205T133000
DTSTAMP:20260420T001744
CREATED:20260123T235048Z
LAST-MODIFIED:20260123T235048Z
UID:5571-1770292800-1770298200@forcharlotte.org
SUMMARY:Northeast Pastoral Network Gathering | February
DESCRIPTION:This is a closed FORCLT Network. If you are interested in attending this Pastoral Network Gathering\, please contact FORCLT HERE. \nNortheast Pastoral Network meets on the first Thursday of every month.
URL:https://forcharlotte.org/event/northeast-pastoral-network-gathering-february/
LOCATION:NC
END:VEVENT
BEGIN:VEVENT
DTSTART;TZID=America/New_York:20260205T074500
DTEND;TZID=America/New_York:20260205T090000
DTSTAMP:20260420T001744
CREATED:20260123T235142Z
LAST-MODIFIED:20260123T235229Z
UID:5584-1770277500-1770282000@forcharlotte.org
SUMMARY:East Pastoral Network Gathering | February
DESCRIPTION:This is a closed FORCLT Network. If you are interested in attending this Pastoral Network Gathering\, please contact FORCLT HERE. \nEast PN meets on the Thursday of the 2nd week of the month.
URL:https://forcharlotte.org/event/east-pastoral-network-gathering-february/
LOCATION:NC
END:VEVENT
BEGIN:VEVENT
DTSTART;TZID=America/New_York:20260130T100000
DTEND;TZID=America/New_York:20260130T140000
DTSTAMP:20260420T001744
CREATED:20260109T165928Z
LAST-MODIFIED:20260109T165928Z
UID:5554-1769767200-1769781600@forcharlotte.org
SUMMARY:International House's Welcome to Charlotte Orientation
DESCRIPTION:International House is hosting a ‘Welcome to Charlotte’ Orientation for any immigrant or refugee newcomer families who are new to the Charlotte area. There will be a formal presentation from 10am-12pm\, introducing everyone to major resources here in Charlotte\, followed by optional 1:1 community navigation appointments for anyone who needs help looking for specific resources\, or getting connected with programs. \nDetails:\n🗓️Friday\, January 30th \n🕙10am-2pm \n📍International House – 1611 E 7th St.\, Charlotte\, NC 28204 \nℹ️2025 Welcome to Clt Flyer \n  \nRegister at the link below or visit International House HERE.
URL:https://forcharlotte.org/event/international-houses-welcome-to-charlotte-orientation/
LOCATION:International House 1611 E. 7th St. Charlotte\, NC 28204\, 1611 E. 7th St.\, Charlotte\, NC\, 28204\, United States
ORGANIZER;CN="International House":MAILTO:cmwangaza@ihclt.org
END:VEVENT
BEGIN:VEVENT
DTSTART;TZID=America/New_York:20260129T120000
DTEND;TZID=America/New_York:20260129T133000
DTSTAMP:20260420T001744
CREATED:20260122T030315Z
LAST-MODIFIED:20260122T030502Z
UID:5562-1769688000-1769693400@forcharlotte.org
SUMMARY:Uptown/Southend Pastoral Network Gathering | January
DESCRIPTION:This is a closed FORCLT Network. If you are interested in attending this Pastoral Network Gathering\, please contact FORCLT HERE. \nUptown/Southend Pastoral Network meets on the last Thursday of every month.
URL:https://forcharlotte.org/event/uptownsouthend-pastoral-network-gathering-january/
LOCATION:NC
END:VEVENT
END:VCALENDAR