BEGIN:VCALENDAR
VERSION:2.0
PRODID:-//FORCLT - ECPv6.15.20//NONSGML v1.0//EN
CALSCALE:GREGORIAN
METHOD:PUBLISH
X-WR-CALNAME:FORCLT
X-ORIGINAL-URL:https://forcharlotte.org
X-WR-CALDESC:Events for FORCLT
REFRESH-INTERVAL;VALUE=DURATION:PT1H
X-Robots-Tag:noindex
X-PUBLISHED-TTL:PT1H
BEGIN:VTIMEZONE
TZID:America/New_York
BEGIN:DAYLIGHT
TZOFFSETFROM:-0500
TZOFFSETTO:-0400
TZNAME:EDT
DTSTART:20240310T070000
END:DAYLIGHT
BEGIN:STANDARD
TZOFFSETFROM:-0400
TZOFFSETTO:-0500
TZNAME:EST
DTSTART:20241103T060000
END:STANDARD
BEGIN:DAYLIGHT
TZOFFSETFROM:-0500
TZOFFSETTO:-0400
TZNAME:EDT
DTSTART:20250309T070000
END:DAYLIGHT
BEGIN:STANDARD
TZOFFSETFROM:-0400
TZOFFSETTO:-0500
TZNAME:EST
DTSTART:20251102T060000
END:STANDARD
BEGIN:DAYLIGHT
TZOFFSETFROM:-0500
TZOFFSETTO:-0400
TZNAME:EDT
DTSTART:20260308T070000
END:DAYLIGHT
BEGIN:STANDARD
TZOFFSETFROM:-0400
TZOFFSETTO:-0500
TZNAME:EST
DTSTART:20261101T060000
END:STANDARD
END:VTIMEZONE
BEGIN:VEVENT
DTSTART;TZID=America/New_York:20250819T130000
DTEND;TZID=America/New_York:20250819T150000
DTSTAMP:20260420T010425
CREATED:20250622T212045Z
LAST-MODIFIED:20250622T212103Z
UID:5174-1755608400-1755615600@forcharlotte.org
SUMMARY:CFK August Toy Inventory Copy
DESCRIPTION:Wednesday\, August 6: 1-3pm | Tuesday\, August 19: 1-3pm \nCFK is seeking volunteers to help inventory donated toys that will stock our Merry Market and help us get a head start preparing for the busy holiday season!
URL:https://forcharlotte.org/event/cfk-august-toy-inventory-copy/
LOCATION:CFK Office\, 5835 Executive Center Dr.\, Suite 100\, Charlotte\, NC\, United States
END:VEVENT
BEGIN:VEVENT
DTSTART;TZID=America/New_York:20250819T113000
DTEND;TZID=America/New_York:20250819T130000
DTSTAMP:20260420T010425
CREATED:20250816T040244Z
LAST-MODIFIED:20250816T040244Z
UID:5291-1755603000-1755608400@forcharlotte.org
SUMMARY:Mission Charlotte Board Chair Luncheon
DESCRIPTION:MissionCLT’s mission is to  “Glorify God by helping non-profits and churches thrive”. We teach\, coach\, and implement a simple capacity building model. \nOne of the core competencies we emphasize is Board Governance. Our experience shows that most Boards drift toward either apathy\, encroachment (into operations)\, or risk-management. We believe that 90% of the problems that non-profits experience stem from unhealthy or improper governance. \nAs an anecdote to these realities\, we are hosting a Board Chair interest luncheon on Tuesday\, August 19th from 11:30am-1pm at Forest Hill Church’s South Park campus. Our Board Chair\, John Parker\, will facilitate a discussion about the possibility of convening non-profit Board Chairs and Vice Chairs on a regular basis to: \n\nExplore best practices in Board Governance\nEngage in learning from real time situations with actual non-profits in Charlotte\nCultivate a peer-to-peer learning community among Board Chairs and Vice Chairs.
URL:https://forcharlotte.org/event/mission-charlotte-board-chair-luncheon/
LOCATION:Forest Hill Church\, 7224 Park Rd\, Charlotte\, NC\, 28210
ORGANIZER;CN="Mission Charlotte":MAILTO:admin@missioncharlotte.org
END:VEVENT
BEGIN:VEVENT
DTSTART;TZID=America/New_York:20250818T120000
DTEND;TZID=America/New_York:20250818T130000
DTSTAMP:20260420T010425
CREATED:20250619T020708Z
LAST-MODIFIED:20250619T193018Z
UID:5042-1755518400-1755522000@forcharlotte.org
SUMMARY:Southwest Pastoral Network Gathering | August
DESCRIPTION:This is a closed FORCLT Network. If you are interested in attending this Pastoral Network Gathering\, please contact FORCLT HERE . \nSouthwest Pastoral Network meets on the 3rd Monday of every month.
URL:https://forcharlotte.org/event/southwest-pastoral-network-gathering-copy-copy/
END:VEVENT
BEGIN:VEVENT
DTSTART;TZID=America/New_York:20250813T084500
DTEND;TZID=America/New_York:20250813T120000
DTSTAMP:20260420T010425
CREATED:20250422T031918Z
LAST-MODIFIED:20250422T032019Z
UID:4684-1755074700-1755086400@forcharlotte.org
SUMMARY:Mission Charlotte | Staff Leadership II Workshops | August 13
DESCRIPTION:Building a driven team with trust and support is a vital part to organizational management. How do you create an environment of growth for your team while working together with a common mission?
URL:https://forcharlotte.org/event/mission-charlotte-staff-leadership-may-14-copy-copy/
LOCATION:TBD
ORGANIZER;CN="Mission Charlotte":MAILTO:admin@missioncharlotte.org
END:VEVENT
BEGIN:VEVENT
DTSTART;TZID=America/New_York:20250811T090000
DTEND;TZID=America/New_York:20250811T170000
DTSTAMP:20260420T010425
CREATED:20250611T194208Z
LAST-MODIFIED:20250611T194208Z
UID:5002-1754902800-1754931600@forcharlotte.org
SUMMARY:Neighborhood Hope Golf Tournament
DESCRIPTION:Neighborhood Hope is hosting their 4th Annual Golf Tournament August 11th and they want you to be a part of it!\nHere are a few ways you can participate! \n#1 Register your team\, they tend to sell out\, so reserve your spot today! \n#2 Want to be a Hole Sponsor?  Their hole sponsorships are only $100 and their goal is that their golfers would see businesses\, bible verses\, and encouraging messages while they play.  For only $100 you can put your business\, favorite quote\, or bible verse on the course. \n#3 They have something NEW this year.  Table Hole Sponsorships are available for companies or organizations to spotlight information about your organization or brand.  Reserve your hole on the course today! \n#4 Call your friends and share the tournament with people you know\, they love sharing the message of Neighborhood Hope with as many people as possible. \nIf you have any questions\, please email us at info@neighborhoodhope.life
URL:https://forcharlotte.org/event/neighborhood-hope-golf-tournament/
LOCATION:Raintree Country Club\, 8600 Raintree Lane\, Charlotte\, 28277\, United States
ORGANIZER;CN="Neighborhood Hope":MAILTO:info@neighborhoodhope.life
END:VEVENT
BEGIN:VEVENT
DTSTART;TZID=America/New_York:20250809T100000
DTEND;TZID=America/New_York:20250809T140000
DTSTAMP:20260420T010425
CREATED:20250622T214900Z
LAST-MODIFIED:20250622T220014Z
UID:5185-1754733600-1754748000@forcharlotte.org
SUMMARY:2025 Back to School Community Health Fair
DESCRIPTION:The C.W. Williams Community Health Center will host its 2025 Back to School Community Health Fair on Saturday\, August 9 from 10am-2pm. \nWe invite you to join us as a valued community vendor\, sponsor\, or volunteer! Please reference this form: CWWCHC 2025 Health Fair Sponsor-Vendor Packet-Final. Vendor space is limited and will be offered on a first come\, first serve basis. For volunteers\, visit this form: Volunteer Form\, CWWCHC 2025 Health Fair – Final \nThis year’s health fair will be an in-person event (rain or shine). Please note the location: 3333 Wilkinson Blvd\, Charlotte\, NC 28208 – Our new medical facility!  \nIf you have not yet responded and would like to be a vendor or sponsor\, please complete and return the attached form at your earliest convenience. (Note July 18\, 2025 deadline.) \nPlease return completed forms to jfuentes@cwwilliams.org. For more information\, call Jennifer Fuentes at 980-335-0498.
URL:https://forcharlotte.org/event/2025-back-to-school-community-health-fair/
LOCATION:C.W. Williams Community Health Center Medical Facility\, 3333 Wilkinson Blvd\, Charlotte\, NC\, 28208\, United States
END:VEVENT
BEGIN:VEVENT
DTSTART;TZID=America/New_York:20250807T120000
DTEND;TZID=America/New_York:20250807T133000
DTSTAMP:20260420T010425
CREATED:20250619T020452Z
LAST-MODIFIED:20250619T193125Z
UID:5040-1754568000-1754573400@forcharlotte.org
SUMMARY:Northeast Pastoral Network Gathering | August
DESCRIPTION:This is a closed FORCLT Network. If you are interested in attending this Pastoral Network Gathering\, please contact FORCLT HERE. \nNortheast Pastoral Network meets on the 1st Thursday of every month.
URL:https://forcharlotte.org/event/northeast-pastoral-network-gathering-copy/
END:VEVENT
BEGIN:VEVENT
DTSTART;TZID=America/New_York:20250807T080000
DTEND;TZID=America/New_York:20250808T170000
DTSTAMP:20260420T010425
CREATED:20250606T172622Z
LAST-MODIFIED:20250606T172622Z
UID:4993-1754553600-1754672400@forcharlotte.org
SUMMARY:The Global Leadership Summit 2025
DESCRIPTION:For over 30 years\, the Global Leadership Summit has brought leaders together for a powerful two-day experience. With the Summit\, you will never lead alone. Our world-class experts will become part of your team\, offering key insights and practical resources for long-term impact. \nLeadership Lineup: HERE \nThe Park Church will once again be a local host for this event. Use the registration link to find out more! \n**Pricing varies by package.**
URL:https://forcharlotte.org/event/the-global-leadership-summit-2025/
LOCATION:The Park Church – Expo Center\, 6029 Beatties Ford Road\, Charlotte\, NC\, 28216\, United States
END:VEVENT
BEGIN:VEVENT
DTSTART;TZID=America/New_York:20250807T074500
DTEND;TZID=America/New_York:20250807T090000
DTSTAMP:20260420T010425
CREATED:20250619T020410Z
LAST-MODIFIED:20250619T193206Z
UID:5038-1754552700-1754557200@forcharlotte.org
SUMMARY:East Pastoral Network Gathering | August
DESCRIPTION:This is a closed FORCLT Network. If you are interested in attending this Pastoral Network Gathering\, please contact FORCLT HERE. \nEast PN meets on the Thursday of the 2nd week of the month.
URL:https://forcharlotte.org/event/east-pastoral-network-gathering-copy-copy/
END:VEVENT
BEGIN:VEVENT
DTSTART;TZID=America/New_York:20250806T130000
DTEND;TZID=America/New_York:20250806T150000
DTSTAMP:20260420T010425
CREATED:20250622T212011Z
LAST-MODIFIED:20250622T212011Z
UID:5172-1754485200-1754492400@forcharlotte.org
SUMMARY:CFK August Toy Inventory
DESCRIPTION:Wednesday\, August 6: 1-3pm | Tuesday\, August 19: 1-3pm \nCFK is seeking volunteers to help inventory donated toys that will stock our Merry Market and help us get a head start preparing for the busy holiday season!
URL:https://forcharlotte.org/event/cfk-august-toy-inventory/
LOCATION:CFK Office\, 5835 Executive Center Dr.\, Suite 100\, Charlotte\, NC\, United States
END:VEVENT
BEGIN:VEVENT
DTSTART;TZID=America/New_York:20250806T084500
DTEND;TZID=America/New_York:20250806T120000
DTSTAMP:20260420T010425
CREATED:20250422T031654Z
LAST-MODIFIED:20250422T031945Z
UID:4682-1754469900-1754481600@forcharlotte.org
SUMMARY:Mission Charlotte | Staff Leadership II Workshops | August 6
DESCRIPTION:Building a driven team with trust and support is a vital part to organizational management. How do you create an environment of growth for your team while working together with a common mission?
URL:https://forcharlotte.org/event/mission-charlotte-staff-leadership-may-14-copy/
LOCATION:TBD
ORGANIZER;CN="Mission Charlotte":MAILTO:admin@missioncharlotte.org
END:VEVENT
BEGIN:VEVENT
DTSTART;TZID=America/New_York:20250804T083000
DTEND;TZID=America/New_York:20250808T133000
DTSTAMP:20260420T010425
CREATED:20250626T191307Z
LAST-MODIFIED:20250626T191341Z
UID:5207-1754296200-1754659800@forcharlotte.org
SUMMARY:Summer Food Service Program
DESCRIPTION:kids eat free summer program\n*FOOD AVAILABILITY TIMES VARY – CHECK TIMES BELOW BEFORE PLANNING*\nParents can bring their kids to the summer meals program for a healthy breakfast and lunch. All meals must be consumed in the cafeteria. You can follow the frog to find us on campus. For more information\, email Kim Sellars HERE. \nDetails:\nWho: All kids ages 18 and younger \nWhere: Northside Baptist Church \nWhen: June 16-August 8 | Monday to Friday (closed July 4) \nTime: Breakfast: 8:30-9:30am | Lunch: 11:30am-1:30pm
URL:https://forcharlotte.org/event/summer-food-service-program-copy-copy-copy-copy-copy/
LOCATION:Northside Baptist Church\, 333 Jeremiah Blvd\, Charlotte\, NC\, 28262\, United States
END:VEVENT
BEGIN:VEVENT
DTSTART;TZID=America/New_York:20250731T120000
DTEND;TZID=America/New_York:20250731T133000
DTSTAMP:20260420T010425
CREATED:20250619T020254Z
LAST-MODIFIED:20250619T193242Z
UID:5036-1753963200-1753968600@forcharlotte.org
SUMMARY:Uptown/Southend Pastoral Network Gathering | July
DESCRIPTION:This is a closed FORCLT Network. If you are interested in attending this Pastoral Network Gathering\, please contact FORCLT HERE. \nUptown/Southend Pastoral Network meets on the last Thursday of every month.
URL:https://forcharlotte.org/event/uptown-southend-pastoral-network-gathering-copy/
END:VEVENT
BEGIN:VEVENT
DTSTART;TZID=America/New_York:20250730T080000
DTEND;TZID=America/New_York:20250730T150000
DTSTAMP:20260420T010425
CREATED:20250622T211604Z
LAST-MODIFIED:20250622T212351Z
UID:5169-1753862400-1753887600@forcharlotte.org
SUMMARY:CFK Socialight Drive-Thru Event
DESCRIPTION:Wednesday\, July 30 | Multiple volunteer shifts available \nCFK is hosting their high-energy\, summer-themed drive-thru event to celebrate local child welfare professionals! Volunteers will help create a fun and welcoming atmosphere\, serve lunch\, hand out treats and giveaways\, and more. If you have any questions\, please email Taylor Jordan.
URL:https://forcharlotte.org/event/cfk-socialight-drive-thru-event/
LOCATION:CFK Office\, 5835 Executive Center Dr.\, Suite 100\, Charlotte\, NC\, United States
END:VEVENT
BEGIN:VEVENT
DTSTART;TZID=America/New_York:20250730T074500
DTEND;TZID=America/New_York:20250730T090000
DTSTAMP:20260420T010425
CREATED:20250619T020152Z
LAST-MODIFIED:20250619T193340Z
UID:5032-1753861500-1753866000@forcharlotte.org
SUMMARY:Southeast Pastoral Network Gathering | July
DESCRIPTION:This is a closed FORCLT Network. If you are interested in attending this Pastoral Network Gathering\, please contact FORCLT HERE. \nSoutheast Pastoral Network meets on the last Wednesday of every month.
URL:https://forcharlotte.org/event/southeast-pastoral-network-gathering-copy/
END:VEVENT
BEGIN:VEVENT
DTSTART;TZID=America/New_York:20250728T083000
DTEND;TZID=America/New_York:20250801T133000
DTSTAMP:20260420T010425
CREATED:20250626T191211Z
LAST-MODIFIED:20250626T191258Z
UID:5205-1753691400-1754055000@forcharlotte.org
SUMMARY:Summer Food Service Program
DESCRIPTION:kids eat free summer program\n*FOOD AVAILABILITY TIMES VARY – CHECK TIMES BELOW BEFORE PLANNING*\nParents can bring their kids to the summer meals program for a healthy breakfast and lunch. All meals must be consumed in the cafeteria. You can follow the frog to find us on campus. For more information\, email Kim Sellars HERE. \nDetails:\nWho: All kids ages 18 and younger \nWhere: Northside Baptist Church \nWhen: June 16-August 8 | Monday to Friday (closed July 4) \nTime: Breakfast: 8:30-9:30am | Lunch: 11:30am-1:30pm
URL:https://forcharlotte.org/event/summer-food-service-program-copy-copy-copy-copy/
LOCATION:Northside Baptist Church\, 333 Jeremiah Blvd\, Charlotte\, NC\, 28262\, United States
END:VEVENT
BEGIN:VEVENT
DTSTART;TZID=America/New_York:20250723T090000
DTEND;TZID=America/New_York:20250723T110000
DTSTAMP:20260420T010425
CREATED:20250622T210806Z
LAST-MODIFIED:20250622T210952Z
UID:5167-1753261200-1753268400@forcharlotte.org
SUMMARY:Congregations for Kids Christmas in July Clean-Up
DESCRIPTION:Volunteers Needed\nMonday\, July 21: 10:30am-12:30pm | Wednesday\, July 23: 9-11am \nVolunteers will inventory toys collected during Christmas in July and help reset our office space. These gifts will stock our Merry Market\, where social workers hand-pick meaningful presents for kids in foster care.
URL:https://forcharlotte.org/event/congregations-for-kids-christmas-in-july-clean-up-copy/
LOCATION:CFK Office\, 5835 Executive Center Dr.\, Suite 100\, Charlotte\, NC\, United States
END:VEVENT
BEGIN:VEVENT
DTSTART;TZID=America/New_York:20250721T120000
DTEND;TZID=America/New_York:20250721T130000
DTSTAMP:20260420T010425
CREATED:20250619T020103Z
LAST-MODIFIED:20250619T193412Z
UID:5030-1753099200-1753102800@forcharlotte.org
SUMMARY:Southwest Pastoral Network Gathering | July
DESCRIPTION:This is a closed FORCLT Network. If you are interested in attending this Pastoral Network Gathering\, please contact FORCLT HERE. \nSouthwest Pastoral Network meets on the 3rd Monday of every month.
URL:https://forcharlotte.org/event/southwest-pastoral-network-gathering-copy/
END:VEVENT
BEGIN:VEVENT
DTSTART;TZID=America/New_York:20250721T103000
DTEND;TZID=America/New_York:20250721T123000
DTSTAMP:20260420T010425
CREATED:20250622T210714Z
LAST-MODIFIED:20250622T210714Z
UID:5164-1753093800-1753101000@forcharlotte.org
SUMMARY:Congregations for Kids Christmas in July Clean-Up
DESCRIPTION:Volunteers Needed\nMonday\, July 21: 10:30am-12:30pm | Wednesday\, July 23: 9-11am \nVolunteers will inventory toys collected during Christmas in July and help reset our office space. These gifts will stock our Merry Market\, where social workers hand-pick meaningful presents for kids in foster care.
URL:https://forcharlotte.org/event/congregations-for-kids-christmas-in-july-clean-up/
LOCATION:CFK Office\, 5835 Executive Center Dr.\, Suite 100\, Charlotte\, NC\, United States
END:VEVENT
BEGIN:VEVENT
DTSTART;TZID=America/New_York:20250721T100000
DTEND;TZID=America/New_York:20250721T150000
DTSTAMP:20260420T010425
CREATED:20250605T192101Z
LAST-MODIFIED:20250605T192240Z
UID:4982-1753092000-1753110000@forcharlotte.org
SUMMARY:Neighborhood Hope Summer Camp Opens!
DESCRIPTION:Neighborhood Hope Summer Camp starts on July 1st and runs through July 22nd.  They will be meeting with the kids every Tuesday\, Wednesday\, and Thursday during those dates from 10:00 am until 3:00 pm. \n**They are located in East City Church.** \nSend us a message to info@neighborhoodhope.life if you have any questions or are interested in helping with camp.
URL:https://forcharlotte.org/event/neighborhood-hope-summer-camp-opens/
LOCATION:Neighborhood Hope\, 6850 Monroe Road\, Charlotte\, NC\, 28212\, United States
ORGANIZER;CN="Neighborhood Hope":MAILTO:info@neighborhoodhope.life
END:VEVENT
BEGIN:VEVENT
DTSTART;TZID=America/New_York:20250721T083000
DTEND;TZID=America/New_York:20250725T133000
DTSTAMP:20260420T010425
CREATED:20250626T191103Z
LAST-MODIFIED:20250626T191202Z
UID:5203-1753086600-1753450200@forcharlotte.org
SUMMARY:Summer Food Service Program
DESCRIPTION:kids eat free summer program\n*FOOD AVAILABILITY TIMES VARY – CHECK TIMES BELOW BEFORE PLANNING*\nParents can bring their kids to the summer meals program for a healthy breakfast and lunch. All meals must be consumed in the cafeteria. You can follow the frog to find us on campus. For more information\, email Kim Sellars HERE. \nDetails:\nWho: All kids ages 18 and younger \nWhere: Northside Baptist Church \nWhen: June 16-August 8 | Monday to Friday (closed July 4) \nTime: Breakfast: 8:30-9:30am | Lunch: 11:30am-1:30pm
URL:https://forcharlotte.org/event/summer-food-service-program-copy-copy-copy/
LOCATION:Northside Baptist Church\, 333 Jeremiah Blvd\, Charlotte\, NC\, 28262\, United States
END:VEVENT
BEGIN:VEVENT
DTSTART;TZID=America/New_York:20250719T100000
DTEND;TZID=America/New_York:20250719T123000
DTSTAMP:20260420T010425
CREATED:20250605T183715Z
LAST-MODIFIED:20250605T183715Z
UID:4952-1752919200-1752928200@forcharlotte.org
SUMMARY:CFK - Christmas In July Event!
DESCRIPTION:Stop by the CFK home base on Saturday\, July 19\, between 10 AM and 12:30 PM to drop off an unwrapped gift(s)! While you’re there\, take part in kid-friendly service activities that will directly impact children in care. \nCan’t attend? \nYou can still shop from their Amazon Wishlist and send items directly to them!
URL:https://forcharlotte.org/event/cfk-christmas-in-july-event/
LOCATION:Congregation for Kids\, 5835 Executive Center Drive Ste 100\, Charlotte\, NC\, 28212\, United States
END:VEVENT
BEGIN:VEVENT
DTSTART;TZID=America/New_York:20250717T120000
DTEND;TZID=America/New_York:20250717T133000
DTSTAMP:20260420T010425
CREATED:20250704T143739Z
LAST-MODIFIED:20250704T143739Z
UID:5209-1752753600-1752759000@forcharlotte.org
SUMMARY:Premarital Resource Fair
DESCRIPTION:Are you looking to start or strengthen a premarital ministry program at your church? Join us for a time of networking and resource gathering. \nRegister HERE for the event!
URL:https://forcharlotte.org/event/premarital-resource-fair/
LOCATION:Steele Creek Church-1929 W Arrowood Rd\, Charlotte\, NC 28217\, 1929 W Arrowood Rd\, Charlotte\, NC\, 28217\, United States
END:VEVENT
BEGIN:VEVENT
DTSTART;TZID=America/New_York:20250717T080000
DTEND;TZID=America/New_York:20250717T090000
DTSTAMP:20260420T010425
CREATED:20250619T020020Z
LAST-MODIFIED:20250619T193447Z
UID:5028-1752739200-1752742800@forcharlotte.org
SUMMARY:Fort Mill Pastoral Network Gathering | July
DESCRIPTION:This is a closed FORCLT Network. If you are interested in attending this Pastoral Network Gathering\, please contact FORCLT HERE. \nFort Mill Pastoral Network meets on the 3rd Thursday of every month.
URL:https://forcharlotte.org/event/fort-mill-pastoral-network-gathering-copy/
END:VEVENT
BEGIN:VEVENT
DTSTART;TZID=America/New_York:20250716T120000
DTEND;TZID=America/New_York:20250716T133000
DTSTAMP:20260420T010425
CREATED:20250619T015824Z
LAST-MODIFIED:20250619T193632Z
UID:5026-1752667200-1752672600@forcharlotte.org
SUMMARY:Lake Norman Pastoral Network | July
DESCRIPTION:This is a closed FORCLT Network. If you are interested in attending this Pastoral Network Gathering\, please contact FORCLT HERE. \nLake Norman Pastoral Network meets on the 3rd Wednesday of the month.
URL:https://forcharlotte.org/event/lake-norman-pastoral-network-copy/
END:VEVENT
BEGIN:VEVENT
DTSTART;TZID=America/New_York:20250714T083000
DTEND;TZID=America/New_York:20250718T133000
DTSTAMP:20260420T010425
CREATED:20250626T191025Z
LAST-MODIFIED:20250626T191052Z
UID:5201-1752481800-1752845400@forcharlotte.org
SUMMARY:Summer Food Service Program
DESCRIPTION:kids eat free summer program\n*FOOD AVAILABILITY TIMES VARY – CHECK TIMES BELOW BEFORE PLANNING*\nParents can bring their kids to the summer meals program for a healthy breakfast and lunch. All meals must be consumed in the cafeteria. You can follow the frog to find us on campus. For more information\, email Kim Sellars HERE. \nDetails:\nWho: All kids ages 18 and younger \nWhere: Northside Baptist Church \nWhen: June 16-August 8 | Monday to Friday (closed July 4) \nTime: Breakfast: 8:30-9:30am | Lunch: 11:30am-1:30pm
URL:https://forcharlotte.org/event/summer-food-service-program-copy-copy/
LOCATION:Northside Baptist Church\, 333 Jeremiah Blvd\, Charlotte\, NC\, 28262\, United States
END:VEVENT
BEGIN:VEVENT
DTSTART;TZID=America/New_York:20250712T100000
DTEND;TZID=America/New_York:20250712T113000
DTSTAMP:20260420T010425
CREATED:20250422T031116Z
LAST-MODIFIED:20250422T034130Z
UID:4678-1752314400-1752319800@forcharlotte.org
SUMMARY:Regional Prayer Gatherings | July
DESCRIPTION:FORCLT is committed to mobilizing the Church to pray for the pastors\, churches\, and needs in Greater Charlotte. To that end\, FORCLT will host or partner with other agencies to host free to attend prayer gatherings for the city. Prayer leaders will gather every other month for a time of connection\, collaboration\, and prayer. Below are the locations of the different regional gatherings. All regions will be on July 12th from 10-11:30am. \n  \nNortheast Regional Prayer Gathering:  \nStoneBridge Church Community – 3700 Prosperity Church Rd.\, Charlotte\, NC 28269 \nNorthwest Regional Prayer Gathering: \nReeder Memorial Baptist Church – 3725 Beatties Ford Rd.\, Charlotte\, NC 28216 \nSoutheast Regional Prayer Gathering: \nCarmel Baptist Church – 1145 Pineville-Matthews Rd.\, Matthews\, NC 28105 \nSouthwest Regional Prayer Gathering: \nDavis Ministry Group – 756 Tyvola Rd.\, Suite 744\, Charlotte\, NC 28217 \n(located in the Arcade Square/Highland Park Commerce Center)
URL:https://forcharlotte.org/event/regional-prayer-gatherings-copy/
LOCATION:Regional Locations
ORGANIZER;CN="For Charlotte | FORCLT":MAILTO:info@forcharlotte.org
END:VEVENT
BEGIN:VEVENT
DTSTART;TZID=America/New_York:20250710T074500
DTEND;TZID=America/New_York:20250710T090000
DTSTAMP:20260420T010425
CREATED:20250619T015613Z
LAST-MODIFIED:20250619T193705Z
UID:5024-1752133500-1752138000@forcharlotte.org
SUMMARY:East Pastoral Network Gathering | July
DESCRIPTION:This is a closed FORCLT Network. If you are interested in attending this Pastoral Network Gathering\, please contact FORCLT HERE. \nEast PN meets on the Thursday of the 2nd week of the month.
URL:https://forcharlotte.org/event/east-pastoral-network-gathering-copy/
END:VEVENT
BEGIN:VEVENT
DTSTART;TZID=America/New_York:20250708T183000
DTEND;TZID=America/New_York:20250708T193000
DTSTAMP:20260420T010425
CREATED:20250622T213216Z
LAST-MODIFIED:20250622T213216Z
UID:5178-1751999400-1752003000@forcharlotte.org
SUMMARY:Neighbor the Nations Discussion on the Afghan Persecuted Church in Pakistan
DESCRIPTION:Join us on July 8th from 6:30-7:30pm to learn how you can help the Afghan Persecuted Church in Pakistan. We will be joined by the Pakistani Pastor who is helping us protect these families. To register and for more information click HERE. \nAn RSVP by July 2nd is required\, our space is limited.
URL:https://forcharlotte.org/event/neighbor-the-nations-discussion-on-the-afghan-persecuted-church-in-pakistan/
LOCATION:4300 McKee Rd\, 4300 McKee Rd\, Charlotte\, NC\, 28270\, United States
END:VEVENT
BEGIN:VEVENT
DTSTART;TZID=America/New_York:20250707T083000
DTEND;TZID=America/New_York:20250711T133000
DTSTAMP:20260420T010425
CREATED:20250626T190355Z
LAST-MODIFIED:20250626T190956Z
UID:5196-1751877000-1752240600@forcharlotte.org
SUMMARY:Summer Food Service Program
DESCRIPTION:kids eat free summer program\n*FOOD AVAILABILITY TIMES VARY – CHECK TIMES BELOW BEFORE PLANNING*\nParents can bring their kids to the summer meals program for a healthy breakfast and lunch. All meals must be consumed in the cafeteria. You can follow the frog to find us on campus. For more information\, email Kim Sellars HERE. \nDetails:\nWho: All kids ages 18 and younger \nWhere: Northside Baptist Church \nWhen: June 16-August 8 | Monday to Friday (closed July 4) \nTime: Breakfast: 8:30-9:30am | Lunch: 11:30am-1:30pm
URL:https://forcharlotte.org/event/summer-food-service-program-copy/
LOCATION:Northside Baptist Church\, 333 Jeremiah Blvd\, Charlotte\, NC\, 28262\, United States
END:VEVENT
END:VCALENDAR