BEGIN:VCALENDAR
VERSION:2.0
PRODID:-//FORCLT - ECPv6.15.20//NONSGML v1.0//EN
CALSCALE:GREGORIAN
METHOD:PUBLISH
X-WR-CALNAME:FORCLT
X-ORIGINAL-URL:https://forcharlotte.org
X-WR-CALDESC:Events for FORCLT
REFRESH-INTERVAL;VALUE=DURATION:PT1H
X-Robots-Tag:noindex
X-PUBLISHED-TTL:PT1H
BEGIN:VTIMEZONE
TZID:America/New_York
BEGIN:DAYLIGHT
TZOFFSETFROM:-0500
TZOFFSETTO:-0400
TZNAME:EDT
DTSTART:20250309T070000
END:DAYLIGHT
BEGIN:STANDARD
TZOFFSETFROM:-0400
TZOFFSETTO:-0500
TZNAME:EST
DTSTART:20251102T060000
END:STANDARD
BEGIN:DAYLIGHT
TZOFFSETFROM:-0500
TZOFFSETTO:-0400
TZNAME:EDT
DTSTART:20260308T070000
END:DAYLIGHT
BEGIN:STANDARD
TZOFFSETFROM:-0400
TZOFFSETTO:-0500
TZNAME:EST
DTSTART:20261101T060000
END:STANDARD
BEGIN:DAYLIGHT
TZOFFSETFROM:-0500
TZOFFSETTO:-0400
TZNAME:EDT
DTSTART:20270314T070000
END:DAYLIGHT
BEGIN:STANDARD
TZOFFSETFROM:-0400
TZOFFSETTO:-0500
TZNAME:EST
DTSTART:20271107T060000
END:STANDARD
END:VTIMEZONE
BEGIN:VEVENT
DTSTART;TZID=America/New_York:20260416T080000
DTEND;TZID=America/New_York:20260416T090000
DTSTAMP:20260419T201252
CREATED:20260201T213931Z
LAST-MODIFIED:20260201T213943Z
UID:5635-1776326400-1776330000@forcharlotte.org
SUMMARY:Fort Mill Pastoral Network Gathering | April
DESCRIPTION:This is a closed FORCLT Network. If you are interested in attending this Pastoral Network Gathering\, please contact FORCLT HERE. \nFort Mill Pastoral Network meets on the 3rd Thursday of every month.
URL:https://forcharlotte.org/event/fort-mill-pastoral-network-gathering-april/
LOCATION:NC
END:VEVENT
BEGIN:VEVENT
DTSTART;TZID=America/New_York:20260416T090000
DTEND;TZID=America/New_York:20260416T110000
DTSTAMP:20260419T201252
CREATED:20260201T214620Z
LAST-MODIFIED:20260201T214620Z
UID:5637-1776330000-1776337200@forcharlotte.org
SUMMARY:Resilient Families Network Gathering
DESCRIPTION:We hope you can join us on April 16th at 9am for a gathering of the Resilient Families Network\, a movement uniting churches\, organizations\, and community members to strengthen and support children and families at risk of or impacted by foster care. \nThis event will be held at Forest Hill Church and is designed specifically for pastors\, ministry leaders\, and other church decision-makers in the Greater Charlotte area who carry a vision for their congregations to care for vulnerable children and families at risk of or impacted by the child welfare system. \n\nFor more information and to register\, visit the link found HERE.
URL:https://forcharlotte.org/event/resilient-families-network-gathering/
LOCATION:Forest Hill Church\, 7224 Park Rd\, Charlotte\, NC\, 28210
ORGANIZER;CN="For Charlotte | FORCLT":MAILTO:info@forcharlotte.org
END:VEVENT
END:VCALENDAR